BEGIN:VCALENDAR
VERSION:2.0
PRODID:-//ChamberMaster//Event Calendar 2.0//EN
METHOD:PUBLISH
X-PUBLISHED-TTL:P3D
REFRESH-INTERVAL:P3D
CALSCALE:GREGORIAN
BEGIN:VEVENT
DTSTART:20211216T183000Z
DTEND:20211216T193000Z
X-MICROSOFT-CDO-ALLDAYEVENT:FALSE
SUMMARY:20 Mile Leads Group
DESCRIPTION:Networking groups promote other member businesses primarily by increasing business opportunities through the building of valuable relationships.  The Parker Chamber of Commerce offers five networking groups exclusive to its members.  Each group is limited to one occupation per group.
X-ALT-DESC;FMTTYPE=text/html:<span style="font-size:14px\;">Networking groups promote other member businesses primarily by increasing business opportunities through the building of valuable relationships.&nbsp\; The Parker Chamber of Commerce offers five networking groups exclusive to its members.&nbsp\;&nbsp\;Each group is limited to one occupation per group.</span>
LOCATION:Deep Space Event Center 11020 S Pikes Peak Dr # 50 (Lower Level)\, Parker
UID:e.2085.3560
SEQUENCE:3
DTSTAMP:20260420T150135Z
URL:http://parkerchamber.sampleorg.com/events/details/20-mile-networking-group-12-16-2021-3560
END:VEVENT

END:VCALENDAR
