BEGIN:VCALENDAR
VERSION:2.0
PRODID:-//ChamberMaster//Event Calendar 2.0//EN
METHOD:PUBLISH
X-PUBLISHED-TTL:P3D
REFRESH-INTERVAL:P3D
CALSCALE:GREGORIAN
BEGIN:VEVENT
DTSTART:20230216T153000Z
DTEND:20230216T190000Z
X-MICROSOFT-CDO-ALLDAYEVENT:FALSE
SUMMARY:2023 Metro Denver Retail Partnership (MDRP) Conference
DESCRIPTION:Join your colleagues at the 2023 Metro Denver Retail Partnership (MDRP) Conference! Retail\, Hospitality\, and Food & Beverage.\n\n\n\nThis event is offered at no-cost.\n\n\n\nContinental Breakfast\n\nKeynote Presentation by Elizabeth Garner\, State Demographer\n\nMetro Denver Area Workforce Panel\n\nCommunity & Training Provider Panel\n\nLegislative & Economic Updates Attendee Giveaways!\n\n \nThe purpose of the sector partnership is to bring employers\, training providers\, government\, and not-for-profit entities together to work on issues and priorities that will address their pain points and develop talent pipelines. This event is offered at no-cost and is NOT meant for job seekers.\n\nThis event will be in-person at CenterPoint Plaza\, located on 14980 E. Alameda Dr. Aurora CO 80012 in the Littleton Rooms\, from 8:30am to 12:00pm.\n\n\n\n\nRegister for this in-person event at https://bit.ly/3j5jzJx.
X-ALT-DESC;FMTTYPE=text/html:<span style="font-size:14px\;"><strong>Join your colleagues at the 2023 Metro Denver Retail Partnership (MDRP) Conference! Retail\, Hospitality\, and Food &amp\; Beverage.<br />\n<br />\nThis event is offered at no-cost.</strong><br />\n<br />\nContinental Breakfast<br />\nKeynote Presentation by Elizabeth Garner\, State Demographer<br />\nMetro Denver Area Workforce Panel<br />\nCommunity &amp\; Training Provider Panel<br />\nLegislative &amp\; Economic Updates Attendee Giveaways!</span><br />\n&nbsp\;\n<p style="margin: 0px\; padding: 0px\; box-sizing: border-box\; color: rgb(111\, 114\, 135)\; font-size: 16px\; line-height: 1.5rem\; font-family: &quot\;Neue Plak&quot\;\, -apple-system\, &quot\;system-ui&quot\;\, Roboto\, &quot\;Helvetica Neue&quot\;\, Helvetica\, Tahoma\, Arial\, sans-serif\;"><span style="font-size:14px\;">The purpose of the sector partnership is to bring employers\, training providers\, government\, and not-for-profit entities together to work on issues and priorities that will address their pain points and develop talent pipelines.&nbsp\;<span style="font-weight: 700\; box-sizing: border-box\; padding-top: 0px\;">This event is offered at no-cost and is NOT meant for job seekers.</span></span></p>\n\n<p style="margin: 0px\; padding: 10px 0px 0px\; box-sizing: border-box\; color: rgb(111\, 114\, 135)\; font-size: 16px\; line-height: 1.5rem\; font-family: &quot\;Neue Plak&quot\;\, -apple-system\, &quot\;system-ui&quot\;\, Roboto\, &quot\;Helvetica Neue&quot\;\, Helvetica\, Tahoma\, Arial\, sans-serif\;"><span style="font-size:14px\;">This event will be in-person at CenterPoint Plaza\, located on 14980 E. Alameda Dr. Aurora CO 80012 in the Littleton Rooms\, from 8:30am to 12:00pm.</span></p>\n<br />\n<br />\n<span style="font-size:14px\;">Register for this in-person event at <strong><a href="https://bit.ly/3j5jzJx">https://bit.ly/3j5jzJx</a></strong>.</span>
LOCATION:CentrePoint Plaza 14980 E. Alameda Dr. Aurora\, CO 80012
UID:e.2085.5916
SEQUENCE:3
DTSTAMP:20260419T173956Z
URL:http://parkerchamber.sampleorg.com/events/details/2023-metro-denver-retail-partnership-mdrp-conference-5916
END:VEVENT

END:VCALENDAR
