BEGIN:VCALENDAR
VERSION:2.0
PRODID:-//ChamberMaster//Event Calendar 2.0//EN
METHOD:PUBLISH
X-PUBLISHED-TTL:P3D
REFRESH-INTERVAL:P3D
CALSCALE:GREGORIAN
BEGIN:VEVENT
DTSTART:20220516T133000Z
DTEND:20220516T210000Z
X-MICROSOFT-CDO-ALLDAYEVENT:FALSE
SUMMARY:2nd Annual Parker Chamber Golf Tournament - Presented by Westerra Credit Union
DESCRIPTION:The 2nd Annual Parker Chamber Golf Tournament\n\nis sponsored by Westerra Credit Union!\n\n\n\nGolfing! Networking! Lunch! Fun!\n\n\n\n\n\nLooking for a way to start the summer or reward an employee or client?  The Parker Chamber of Commerce 2nd Annual Golf Tournament is the perfect solution!\n\n\n\nThe 4-person golf outing will be held at the private and prestigious The Club at Pradera on Monday\, May 16th.  Registration begins at 7:30 am with 9:00 a.m. Shot Gun\n\n\n\nDon't play golf\, but want to promote your business? No worries!  There are sponsorship opportunities available too!  Contact the Chamber for additional information.\n\n\n\nTitle Sponsor- $5000 SOLD\n\nThank you\, Westerra Credit Union!\n\n	Includes 1 foursome ($740 value)\n	Sponsorship and signage at first hole (provided by sponsor)\n	Banner at Club House (provided by sponsor)\n	Provide logo goodie bags for golfers (filled by all sponsor swag)\n	Banner display on your golf cart (banner provided by sponsor)\n	Recognition at Awards Ceremony\n	Logo on Website Golf Event Announcement and Social Media promotions \n	First Right of Refusal Next Year?s Event\n	Name on Sponsor List \n	Includes Breakfast and Lunch\n	Speak at Awards Ceremony\n\n Hole Sponsor- $1500 (18 available) \n\n9 SOLD\, 9 REMAIN\n\n\n	Includes 1 foursome ($740 value)\n	Signage at the hole (provided by sponsor)\n	Table/tent to showcase your product or business (provided by sponsor)\n	Banner at the hole (provided by sponsor)\n	Banner at Club House (provided by sponsor)\n	Name on the Sponsor List\n	Marketing Material in 100 Goodie Bags\n	Website and Social Media promotions\n	Includes Breakfast & Lunch\n\n Breakfast Sponsor- $2000 - SOLD\n\nThank you\, Simplified Restoration!\n\n\n	Includes 1 foursome ($740 value)\n	Set up table at check in\n	Banner and Marketing Material at Check in (provided by sponsor)\n	Marketing Material in 100 Goodie Bags\n	Website and Social Media Promotions\n	Includes Breakfast and Lunch\n\nLunch Sponsor - $2000 SOLD\n\nThank you\, Stewart Title!\n\n\n	Includes 1 foursome ($740 value)\n	Banner display on your golf cart (banner provided by sponsor)\n	Banner on Beverage Cart (banner provided by sponsor)\n	Marketing Material in 100 Goodie Bags\n	Website and Social Media Promotions\n	Includes Lunch and Breakfast \n\nOne Foursome - $740 for Chamber Members\n\n            Individual - $185\n\nOne Foursome - $800 for Non-Chamber Members\n\n            Individual - $200
X-ALT-DESC;FMTTYPE=text/html:<strong style="color: rgb(255\, 0\, 0)\; font-size: 18.6667px\;"><span style="font-size:24px\;"><span style="color:#008000\;">The 2nd Annual Parker Chamber Golf Tournament<br />\nis sponsored by <a href="http://www.westerracu.com">Westerra Credit Union</a>!</span></span></strong><br />\n<br />\n<span style="font-size:16px\;"><span style="color:#008000\;"><span style="font-family:comic sans ms\;"><span style="font-size:20px\;"><strong>Golfing! Networking! Lunch! Fun!</strong></span></span></span></span><br />\n<br />\n<br />\n<span style="font-size:16px\;">Looking for a way to start the summer or reward an employee or client?&nbsp\; The Parker Chamber of Commerce 2nd Annual Golf Tournament is the perfect solution!</span><br />\n<br />\n<span style="font-size: 16px\;">The 4-person golf outing will be held at the private and prestigious <strong><a href="http://www.theclubatpradera.com/">T</a></strong><a href="http://www.theclubatpradera.com/"><strong>he Club at Pradera</strong></a> on Monday\, May 16th. &nbsp\;Registration begins at 7:30 am with 9:00 a.m. Shot Gun<br />\n<br />\nDon&#39\;t play golf\, but want to promote your business? No worries!&nbsp\; There are sponsorship opportunities available too!&nbsp\; Contact the Chamber for additional information.</span><br />\n<br />\n<span style="color:#008000\;"><span style="font-size: 14pt\;">Title Sponsor- $5000&nbsp\;</span></span><strong style="color: rgb(255\, 0\, 0)\; font-size: 18.6667px\;">SOLD<br />\nThank you\,&nbsp\;Westerra Credit Union!</strong>\n<ul>\n	<li style="text-align:justify\;text-justify:inter-ideograph\;"><span style="font-style:normal\;"><span style="font-size:12pt\;">Includes 1 foursome ($740 value)</span></span></li>\n	<li style="text-align:justify\;text-justify:inter-ideograph\;"><span style="font-style:normal\;"><span style="font-size:12pt\;">Sponsorship and&nbsp\;signage at first hole (provided by sponsor)</span></span></li>\n	<li style="text-align:justify\;text-justify:inter-ideograph\;"><span style="font-style:normal\;"><span style="font-size:12pt\;">Banner at Club House (provided by sponsor)</span></span></li>\n	<li style="text-align:justify\;text-justify:inter-ideograph\;"><span style="font-style:normal\;"><span style="font-size:12pt\;">Provide logo goodie bags for golfers (filled by all sponsor swag)</span></span></li>\n	<li style="text-align:justify\;text-justify:inter-ideograph\;"><span style="font-style:normal\;"><span style="font-size:12pt\;">Banner display on your golf cart (banner provided by sponsor)</span></span></li>\n	<li style="text-align:justify\;text-justify:inter-ideograph\;"><span style="font-style:normal\;"><span style="font-size:12pt\;">Recognition at Awards Ceremony</span></span></li>\n	<li style="text-align:justify\;text-justify:inter-ideograph\;"><span style="font-style:normal\;"><span style="font-size:12pt\;">Logo on Website Golf Event Announcement and Social Media promotions&nbsp\;</span></span></li>\n	<li style="text-align:justify\;text-justify:inter-ideograph\;"><span style="font-style:normal\;"><span style="font-size:12pt\;">First Right of Refusal Next Year?s Event</span></span></li>\n	<li style="text-align:justify\;text-justify:inter-ideograph\;"><span style="font-style:normal\;"><span style="font-size:12pt\;">Name on Sponsor List&nbsp\;</span></span></li>\n	<li style="text-align:justify\;text-justify:inter-ideograph\;"><span style="font-style:normal\;"><span style="font-size:12pt\;">Includes Breakfast and Lunch</span></span></li>\n	<li style="text-align:justify\;text-justify:inter-ideograph\;"><span style="font-style:normal\;"><span style="font-size:12pt\;">Speak at Awards Ceremony</span></span></li>\n</ul>\n<span style="color:#008000\;">&nbsp\;<span style="font-size: 14pt\;">Hole Sponsor- $1500 (18 available)&nbsp\;</span></span><br />\n<strong style="color: rgb(255\, 0\, 0)\; font-size: 18.6667px\;">9 SOLD\, 9 REMAIN</strong>\n\n<ul>\n	<li style="text-align:justify\;text-justify:inter-ideograph\;"><span style="font-style:normal\;"><span style="font-size:12pt\;">Includes 1 foursome ($740 value)</span></span></li>\n	<li style="text-align:justify\;text-justify:inter-ideograph\;"><span style="font-style:normal\;"><span style="font-size:12pt\;">Signage at the hole (provided by sponsor)</span></span></li>\n	<li style="text-align:justify\;text-justify:inter-ideograph\;"><span style="font-style:normal\;"><span style="font-size:12pt\;">Table/tent to showcase your product or business (provided by sponsor)</span></span></li>\n	<li style="text-align:justify\;text-justify:inter-ideograph\;"><span style="font-style:normal\;"><span style="font-size:12pt\;">Banner at the hole (provided by sponsor)</span></span></li>\n	<li style="text-align:justify\;text-justify:inter-ideograph\;"><span style="font-style:normal\;"><span style="font-size:12pt\;">Banner at Club House (provided by sponsor)</span></span></li>\n	<li style="text-align:justify\;text-justify:inter-ideograph\;"><span style="font-style:normal\;"><span style="font-size:12pt\;">Name on the Sponsor List</span></span></li>\n	<li style="text-align:justify\;text-justify:inter-ideograph\;"><span style="font-style:normal\;"><span style="font-size:12pt\;">Marketing Material in 100 Goodie Bags</span></span></li>\n	<li style="text-align:justify\;text-justify:inter-ideograph\;"><span style="font-style:normal\;"><span style="font-size:12pt\;">Website and Social Media promotions</span></span></li>\n	<li style="text-align:justify\;text-justify:inter-ideograph\;"><span style="font-style:normal\;"><span style="font-size:12pt\;">Includes Breakfast &amp\; Lunch</span></span></li>\n</ul>\n<span style="color:#008000\;">&nbsp\;<span style="font-size: 14pt\;">Breakfast Sponsor- $2000 - </span></span><span style="color:#FF0000\;"><span style="font-size: 14pt\;"><strong>SOLD<br />\nThank you\,&nbsp\;Simplified Restoration!</strong></span></span>\n\n<ul>\n	<li style="text-align:justify\;text-justify:inter-ideograph\;"><span style="font-style:normal\;"><span style="font-size:12pt\;">Includes 1 foursome ($740 value)</span></span></li>\n	<li style="text-align:justify\;text-justify:inter-ideograph\;"><span style="font-style:normal\;"><span style="font-size:12pt\;">Set up table at check in</span></span></li>\n	<li style="text-align:justify\;text-justify:inter-ideograph\;"><span style="font-style:normal\;"><span style="font-size:12pt\;">Banner and Marketing Material at Check in (provided by sponsor)</span></span></li>\n	<li style="text-align:justify\;text-justify:inter-ideograph\;"><span style="font-style:normal\;"><span style="font-size:12pt\;">Marketing Material in 100 Goodie Bags</span></span></li>\n	<li style="text-align:justify\;text-justify:inter-ideograph\;"><span style="font-style:normal\;"><span style="font-size:12pt\;">Website and Social Media Promotions</span></span></li>\n	<li style="text-align:justify\;text-justify:inter-ideograph\;"><span style="font-style:normal\;"><span style="font-size:12pt\;">Includes Breakfast and Lunch</span></span></li>\n</ul>\n<span style="color:#008000\;"><span style="font-size: 14pt\;">Lunch Sponsor - $2000&nbsp\;</span></span><strong style="color: rgb(255\, 0\, 0)\; font-size: 18.6667px\;">SOLD<br />\nThank you\,&nbsp\;Stewart Title!</strong>\n\n<ul>\n	<li style="text-align:justify\;text-justify:inter-ideograph\;"><span style="font-style:normal\;"><span style="font-size:12pt\;">Includes 1 foursome ($740 value)</span></span></li>\n	<li style="text-align:justify\;text-justify:inter-ideograph\;"><span style="font-style:normal\;"><span style="font-size:12pt\;">Banner display on your golf cart (banner provided by sponsor)</span></span></li>\n	<li style="text-align:justify\;text-justify:inter-ideograph\;"><span style="font-style:normal\;"><span style="font-size:12pt\;">Banner on Beverage Cart (banner provided by sponsor)</span></span></li>\n	<li style="text-align:justify\;text-justify:inter-ideograph\;"><span style="font-style:normal\;"><span style="font-size:12pt\;">Marketing Material in 100 Goodie Bags</span></span></li>\n	<li style="text-align:justify\;text-justify:inter-ideograph\;"><span style="font-style:normal\;"><span style="font-size:12pt\;">Website and Social Media Promotions</span></span></li>\n	<li style="text-align:justify\;text-justify:inter-ideograph\;"><span style="font-style:normal\;"><span style="font-size:12pt\;">Includes Lunch and Breakfast&nbsp\;</span></span></li>\n</ul>\n<span style="color:#008000\;"><span style="font-size: 14pt\;">One Foursome - $740 for Chamber Members</span><br />\n&nbsp\;<span style="font-size: 18px\;">&nbsp\;&nbsp\;</span>&nbsp\;&nbsp\;&nbsp\;&nbsp\;&nbsp\;&nbsp\;&nbsp\;&nbsp\;<span style="font-size: 18px\;">&nbsp\;Individual - $185</span><br />\n<span style="font-size: 14pt\;">One Foursome - $800 for Non-Chamber Members</span><br />\n&nbsp\;&nbsp\;&nbsp\;&nbsp\;&nbsp\;&nbsp\;&nbsp\;&nbsp\;&nbsp\;&nbsp\;&nbsp\;&nbsp\;<span style="font-size: 18px\;">Individual - $200</span></span><br />\n&nbsp\;
LOCATION:The Club at Pradera 5225 Raintree Circle Parker\, CO 80134
UID:e.2085.5501
SEQUENCE:3
DTSTAMP:20260420T073408Z
URL:http://parkerchamber.sampleorg.com/events/details/2nd-annual-parker-chamber-golf-tournament-presented-by-westerra-credit-union-5501
END:VEVENT

END:VCALENDAR
