BEGIN:VCALENDAR
VERSION:2.0
PRODID:-//ChamberMaster//Event Calendar 2.0//EN
METHOD:PUBLISH
X-PUBLISHED-TTL:P3D
REFRESH-INTERVAL:P3D
CALSCALE:GREGORIAN
BEGIN:VEVENT
DTSTART:20230515T133000Z
DTEND:20230515T210000Z
X-MICROSOFT-CDO-ALLDAYEVENT:FALSE
SUMMARY:3rd Annual Parker Chamber Golf Tournament - Sponsored by Westerra Credit Union
DESCRIPTION:REGISTRATION IS NOW CLOSED.\n\n\n\nThe 3rd Annual Parker Chamber Golf Tournament!\n\nSponsored by Westerra Credit Union\n\n\n\n\n\nGolfing!  Networking!  Lunch!  Fun!\n\n\n\n\n\nLooking for a way to start the summer or reward an employee or client?  The Parker Chamber of Commerce 3rd Annual Golf Tournament is the perfect solution!\n\n\n\nThe 4-person golf outing will be held at the private and prestigious The Club at Pradera on Monday\, May 15th.  Registration begins at 7:30 am with 9:00 a.m. shot gun.\n\n\n\nDon't play golf\, but want to promote your business? No worries!  There are sponsorship opportunities available too!
X-ALT-DESC;FMTTYPE=text/html:<strong style="color: rgb(255\, 0\, 0)\; font-size: 18.6667px\;"><span style="font-size:24px\;"><span style="color:#FF0000\;">REGISTRATION IS NOW CLOSED.</span><br />\n<br />\n<span style="color:#008000\;">The 3rd Annual Parker Chamber Golf Tournament!</span><br />\n<span style="color:#0000FF\;">Sponsored by </span><a href="https://www.westerracu.com/"><span style="color:#0000FF\;">Westerra Credit Union</span></a></span></strong><br />\n<br />\n<br />\n<span style="font-size:16px\;"><span style="color:#008000\;"><span style="font-family:comic sans ms\;"><span style="font-size:20px\;"><strong>Golfing!&nbsp\; Networking!&nbsp\; Lunch!&nbsp\; Fun!</strong></span></span></span></span><br />\n<br />\n<br />\n<span style="font-size:16px\;">Looking for a way to start the summer or reward an employee or client?&nbsp\; The Parker Chamber of Commerce 3rd Annual Golf Tournament is the perfect solution!</span><br />\n<br />\n<span style="font-size: 16px\;">The 4-person golf outing will be held at the private and prestigious <strong><a href="http://www.theclubatpradera.com/">T</a></strong><a href="http://www.theclubatpradera.com/"><strong>he Club at Pradera</strong></a> on Monday\, May 15th. &nbsp\;Registration begins at 7:30 am with 9:00 a.m. shot gun.<br />\n<br />\nDon&#39\;t play golf\, but want to promote your business? No worries!&nbsp\; There are sponsorship opportunities available too! &nbsp\;</span><br />\n<br />\n&nbsp\;
LOCATION:The Club at Pradera 5225 Raintree Circle Parker\, CO 80134
UID:e.2085.5814
SEQUENCE:3
DTSTAMP:20260419T143430Z
URL:http://parkerchamber.sampleorg.com/events/details/3rd-annual-parker-chamber-golf-tournament-sponsored-by-westerra-credit-union-5814
END:VEVENT

END:VCALENDAR
