BEGIN:VCALENDAR
VERSION:2.0
PRODID:-//ChamberMaster//Event Calendar 2.0//EN
METHOD:PUBLISH
X-PUBLISHED-TTL:P3D
REFRESH-INTERVAL:P3D
CALSCALE:GREGORIAN
BEGIN:VEVENT
DTSTART:20221020T230000Z
DTEND:20221021T010000Z
X-MICROSOFT-CDO-ALLDAYEVENT:FALSE
SUMMARY:After Hours Networking - Aflac
DESCRIPTION:Join us for a free night of power networking at our October After Hours Networking event hosted by Aflac. This event will be held at Casa Mata\, hosted by Aflac. \n\n\n\nRemember to RSVP and bring your business cards for a drawing for some fabulous prizes! Bring your friends and colleagues. Costumes are encouraged. Happy Halloween!
X-ALT-DESC;FMTTYPE=text/html:<strong><font color="#003366"><span style="font-size: 22px\;">Join us for a free night of power networking at our October After Hours Networking event hosted by Aflac. This event will be held at Casa Mata\, hosted by Aflac.&nbsp\;</span></font><br />\n<br />\n<font color="#003366"><span style="font-size: 22px\;">Remember to RSVP and bring your business cards for a drawing for some fabulous prizes!</span><span style="font-size: 22px\;">&nbsp\;Bring your friends and colleagues. Costumes are encouraged. Happy Halloween!</span></font></strong>
LOCATION:Casa Mata - Hosted by Aflac 19585 Hess Rd Unit #101\, Parker\, CO 80134
UID:e.2085.5815
SEQUENCE:3
DTSTAMP:20260419T234048Z
URL:http://parkerchamber.sampleorg.com/events/details/after-hours-networking-aflac-5815
END:VEVENT

END:VCALENDAR
