BEGIN:VCALENDAR
VERSION:2.0
PRODID:-//ChamberMaster//Event Calendar 2.0//EN
METHOD:PUBLISH
X-PUBLISHED-TTL:P3D
REFRESH-INTERVAL:P3D
CALSCALE:GREGORIAN
BEGIN:VEVENT
DTSTART:20211117T233000Z
DTEND:20211118T013000Z
X-MICROSOFT-CDO-ALLDAYEVENT:FALSE
SUMMARY:After Hours Networking Event - BARNETT & SON BREWING CO.
DESCRIPTION:Join us for fun\, food\, drink\, and awesome networking at Barnett & Son Brewing Co.\n\n\n\nJoin in the fun with chamber friends   old and new. Andy and his team will showcase his business and  while you enjoy refreshments and networking.  This is your chance to make yourself known to multiple local businesses in a relaxed "After Hours" social setting.
X-ALT-DESC;FMTTYPE=text/html:<span style="font-family: arial\;"><strong style="font-size: 20px\;">Join us for fun\, food\, drink\, and awesome networking at Barnett &amp\; Son Brewing Co.</strong></span><br />\n<br />\n<span style="font-family: arial\;"><span style="font-size: 20px\;">Join in the fun with chamber friends &ndash\; old and new. </span><font size="4"><span style="caret-color: rgb(178\, 34\, 34)\;">Andy and his</span></font><font color="#000080" size="4"><span style="caret-color: rgb(178\, 34\, 34)\;"><b>&nbsp\;</b></span></font></span><font face="arial"><span style="font-size: 20px\;">team will showcase his business and &nbsp\;while you&nbsp\;enjoy&nbsp\;refreshments and networking. &nbsp\;This is your chance to make yourself known to multiple local businesses in a relaxed &quot\;After Hours&quot\; social setting.&nbsp\;</span></font>
LOCATION:Barnett & Son 18425 Pony Express Dr.\, Parker\, CO 80134
UID:e.2085.5300
SEQUENCE:3
DTSTAMP:20260420T161929Z
URL:http://parkerchamber.sampleorg.com/events/details/after-hours-networking-event-barnett-son-brewing-co-5300
END:VEVENT

END:VCALENDAR
