BEGIN:VCALENDAR
VERSION:2.0
PRODID:-//ChamberMaster//Event Calendar 2.0//EN
METHOD:PUBLISH
X-PUBLISHED-TTL:P3D
REFRESH-INTERVAL:P3D
CALSCALE:GREGORIAN
BEGIN:VEVENT
DTSTART:20210916T223000Z
DTEND:20210917T003000Z
X-MICROSOFT-CDO-ALLDAYEVENT:FALSE
SUMMARY:After Hours Networking Event - CORE (IREA) @ Black+Haus
DESCRIPTION:Join us for fun\, food\, drink\, and awesome networking at Black+Haus in Downtown Parker.\n\n\n\nEvent hosted by:\n\n\n\nCORE Electric Cooperative!\n\n\n\nIREA is now CORE Electric Cooperative\n\nLearn more at www.core.coop\n\n \n\nJoin in the fun with chamber friends   old and new. CORE team members will showcase their business and new branding while you enjoy refreshments and networking.  This is your chance to make yourself known to multiple local businesses in a relaxed "After Hours" social setting.
X-ALT-DESC;FMTTYPE=text/html:<span style="font-family: arial\;"><strong style="font-size: 20px\;">Join us for fun\, food\, drink\, and awesome networking at Black+Haus in Downtown Parker.<br />\n<br />\nEvent hosted by:</strong></span><br />\n<br />\n<span style="font-size:26px\;"><span style="color:#000080\;"><strong><span style="caret-color: rgb(0\, 0\, 0)\; font-family: Calibri\, sans-serif\;">CORE Electric Cooperative!</span></strong></span></span><br />\n<br />\n<span style="font-size:20px\;"><span style="font-family: Arial\, sans-serif\;">IREA is now&nbsp\;<b>CORE Electric Cooperative</b><br />\n<em>Learn more at&nbsp\;<a href="https://core.coop/">www.<b>core</b>.coop</a></em></span></span><br />\n<span style="font-family: arial\;"><span style="font-size:20px\;"><font style="font-size: 20px\;"><span style="caret-color: rgb(0\, 153\, 255)\;"><b>&nbsp\;</b></span></font></span><br />\n<span style="font-size: 20px\;">Join in the fun with chamber friends &ndash\; old and new. </span><a href="https://core.coop/"><strong><span style="color:#000080\;"><font size="4"><span style="caret-color: rgb(178\, 34\, 34)\;">CORE</span></font></span></strong></a></span><font face="arial"><span style="font-size: 20px\;">&nbsp\;team members will showcase their business and new branding while you&nbsp\;enjoy&nbsp\;refreshments and networking. &nbsp\;This is your chance to make yourself known to multiple local businesses in a relaxed &quot\;After Hours&quot\; social setting.&nbsp\;</span></font>
LOCATION:Black + Haus Tavern 19501 Mainstreet\, Parker\, CO 80138
UID:e.2085.5136
SEQUENCE:3
DTSTAMP:20260420T205841Z
URL:http://parkerchamber.sampleorg.com/events/details/after-hours-networking-event-core-irea-black-haus-5136
END:VEVENT

END:VCALENDAR
