BEGIN:VCALENDAR
VERSION:2.0
PRODID:-//ChamberMaster//Event Calendar 2.0//EN
METHOD:PUBLISH
X-PUBLISHED-TTL:P3D
REFRESH-INTERVAL:P3D
CALSCALE:GREGORIAN
BEGIN:VEVENT
DTSTART:20210923T230000Z
DTEND:20210924T010000Z
X-MICROSOFT-CDO-ALLDAYEVENT:FALSE
SUMMARY:After Hours Networking Event - RIDE & JOY
DESCRIPTION:Join us for fun\, food\, drink\, and awesome networking at\n\nRIDE & JOY!\n\n\n\nEvent hosted by:\n\n\n\nRIDE & JOY\n\n\n\nYou do not want to miss this event!\n\nAn amazing array of cool cars all owned by customers of Ride & Joy!\n\nCocktails\, refreshments & hors D'oeuvres!\n\nOur good friend and world renown Magician & Mentalist Rich Ferguson!\n\nGreat Magic and Good Laughs!\n\n \n\nJoin in the fun with chamber friends   old and new. Ride & Joy team members will showcase their business and new branding while you enjoy refreshments and networking.  This is your chance to make yourself known to multiple local businesses in a relaxed "After Hours" social setting.
X-ALT-DESC;FMTTYPE=text/html:<span style="font-family: arial\;"><strong style="font-size: 20px\;">Join us for fun\, food\, drink\, and awesome networking at<br />\n<span style="color:#DAA520\;">RIDE &amp\; JOY</span>!<br />\n<br />\nEvent hosted by:</strong></span><br />\n<br />\n<span style="color:#DAA520\;"><span style="font-size:26px\;"><strong><span style="caret-color: rgb(0\, 0\, 0)\; font-family: Calibri\, sans-serif\;">RIDE &amp\; JOY</span></strong></span></span><br />\n<br />\n<strong><span style="font-family:tahoma\;"><span style="font-size:14px\;"><span style="font-size:18px\;">You do not want to miss this event!</span><br />\nAn amazing array of cool cars all owned by customers of Ride &amp\; Joy!<br />\nCocktails\, refreshments &amp\; hors D&rsquo\;oeuvres!<br />\nOur good friend and world renown Magician &amp\; Mentalist Rich Ferguson!<br />\nGreat Magic and Good Laughs!</span></span></strong><br />\n<span style="font-family: arial\;"><span style="font-size:20px\;"><font style="font-size: 20px\;"><span style="caret-color: rgb(0\, 153\, 255)\;"><b>&nbsp\;</b></span></font></span><br />\n<span style="font-size: 20px\;">Join in the fun with chamber friends &ndash\; old and new.&nbsp\;<strong>Ride &amp\; Joy</strong>&nbsp\;</span></span><font face="arial"><span style="font-size: 20px\;">team members will showcase their business and new branding while you&nbsp\;enjoy&nbsp\;refreshments and networking. &nbsp\;This is your chance to make yourself known to multiple local businesses in a relaxed &quot\;After Hours&quot\; social setting.&nbsp\;</span></font>
LOCATION:18800 Clarke Rd\, Unit 104\, Parker CO 80134
UID:e.2085.5287
SEQUENCE:3
DTSTAMP:20260420T192540Z
URL:http://parkerchamber.sampleorg.com/events/details/after-hours-networking-event-ride-joy-5287
END:VEVENT

END:VCALENDAR
