BEGIN:VCALENDAR
VERSION:2.0
PRODID:-//ChamberMaster//Event Calendar 2.0//EN
METHOD:PUBLISH
X-PUBLISHED-TTL:P3D
REFRESH-INTERVAL:P3D
CALSCALE:GREGORIAN
BEGIN:VEVENT
DTSTART:20220907T230000Z
DTEND:20220908T010000Z
X-MICROSOFT-CDO-ALLDAYEVENT:FALSE
SUMMARY:After Hours Networking - Injury Care Associates
DESCRIPTION:Join us for a free night of power networking at our September After Hours Networking event hosted by Injury Care Associates. \n\n\n\nRemember to RSVP and bring your business cards for a drawing for some fabulous prizes! Fairfield Inn & Suites Parker/Aurora is donating a free night for a lucky winner.  Bring your friends and colleagues.
X-ALT-DESC;FMTTYPE=text/html:<strong><font color="#003366"><span style="font-size: 22px\;">Join us for a free night of power networking at our September After Hours Networking event hosted by Injury Care Associates.&nbsp\;</span></font><br />\n<br />\n<font color="#003366"><span style="font-size: 22px\;">Remember to RSVP and bring your business cards for a drawing for some fabulous prizes!</span><span style="font-size: 22px\;">&nbsp\;Fairfield Inn &amp\; Suites Parker/Aurora is donating a free night for a lucky winner. &nbsp\;Bring your friends and colleagues.&nbsp\;</span></font></strong>
LOCATION:Injury Care Associates 19284 Cottonwood Dr.\, Suite 104 Parker\, CO 80138
UID:e.2085.5798
SEQUENCE:3
DTSTAMP:20260420T011530Z
URL:http://parkerchamber.sampleorg.com/events/details/after-hours-networking-injury-care-associates-5798
END:VEVENT

END:VCALENDAR
