BEGIN:VCALENDAR
VERSION:2.0
PRODID:-//ChamberMaster//Event Calendar 2.0//EN
METHOD:PUBLISH
X-PUBLISHED-TTL:P3D
REFRESH-INTERVAL:P3D
CALSCALE:GREGORIAN
BEGIN:VEVENT
DTSTART:20230412T230000Z
DTEND:20230413T010000Z
X-MICROSOFT-CDO-ALLDAYEVENT:FALSE
SUMMARY:After Hours Networking - La Quinta Inn & Suites
DESCRIPTION:Join us for a free night of power networking at our April After Hours Networking event hosted by La Quinta Inn & Suites by Wyndham.  \n\n\n\nRemember to RSVP and bring your business cards for a drawing. La Quinta will be giving away a FREE night stay at their Parker location!
X-ALT-DESC;FMTTYPE=text/html:<strong><font color="#003366"><span style="font-size: 22px\;">Join us for a free night of power networking at our April After Hours Networking event hosted by La Quinta Inn &amp\; Suites by&nbsp\;Wyndham. &nbsp\;</span></font><br />\n<br />\n<font color="#003366"><span style="font-size: 22px\;">Remember to RSVP and bring your business cards for a drawing. La Quinta will be giving away a FREE night stay at their Parker location!</span></font></strong>
LOCATION:La Quinta Inn & Suites by Wyndham 17111 Carlson Drive Parker\, CO 80134
UID:e.2085.5918
SEQUENCE:3
DTSTAMP:20260419T155735Z
URL:http://parkerchamber.sampleorg.com/events/details/after-hours-networking-la-quinta-inn-suites-5918
END:VEVENT

END:VCALENDAR
