BEGIN:VCALENDAR
VERSION:2.0
PRODID:-//ChamberMaster//Event Calendar 2.0//EN
METHOD:PUBLISH
X-PUBLISHED-TTL:P3D
REFRESH-INTERVAL:P3D
CALSCALE:GREGORIAN
BEGIN:VEVENT
DTSTART:20220427T230000Z
DTEND:20220428T010000Z
X-MICROSOFT-CDO-ALLDAYEVENT:FALSE
SUMMARY:After Hours Networking - SpringHill Suites
DESCRIPTION:Join us for a free night of power networking at our April After Hours Networking event.  SpringHill Suites of Parker will be our host.\n\n\n\nRemember to RSVP and bring your business cards. There will be a drawing for a FREE night stay! Bring your friends and colleagues.
X-ALT-DESC;FMTTYPE=text/html:<span style="color:#003366\;"><span style="font-size:22px\;"><strong>Join us for a free night of power networking at our April After Hours Networking event.&nbsp\; SpringHill Suites of Parker will be our host.<br />\n<br />\nRemember to RSVP and bring your business cards. There will be a drawing for a FREE night stay! Bring your friends and colleagues.</strong></span></span>
LOCATION:SpringHill Suites - Parker 9355 Silverado Dr\, Parker\, CO 80134
UID:e.2085.5513
SEQUENCE:3
DTSTAMP:20260420T085316Z
URL:http://parkerchamber.sampleorg.com/events/details/after-hours-networking-springhill-suites-5513
END:VEVENT

END:VCALENDAR
