BEGIN:VCALENDAR
VERSION:2.0
PRODID:-//ChamberMaster//Event Calendar 2.0//EN
METHOD:PUBLISH
X-PUBLISHED-TTL:P3D
REFRESH-INTERVAL:P3D
CALSCALE:GREGORIAN
BEGIN:VEVENT
DTSTART:20211007T223000Z
DTEND:20211008T003000Z
X-MICROSOFT-CDO-ALLDAYEVENT:FALSE
SUMMARY:Business After Hours - Lunchtime Leads Group
DESCRIPTION:Our event host for this month is\n\n\n\nLUNCHTIME LEADS GROUP\n\nLocation: Colorado Taproom & Grill\n\n \n\nJoin in this great opportunity to meet people and network with other chamber members. Lunchtime Leads will showcase their businesses while you enjoy refreshments and games.  This is your chance to make yourself known to multiple local businesses in a relaxed after hours social setting.
X-ALT-DESC;FMTTYPE=text/html:<span style="font-size: 20px\; font-family: arial\;"><strong>Our event host for this month is</strong><br />\n<br />\n<span style="color:#B22222\;"><span style="caret-color: rgb(0\, 153\, 255)\;"><b>LUNCHTIME LEADS GROUP</b></span></span><br />\n<span style="color:#0000FF\;"><span style="caret-color: rgb(0\, 153\, 255)\;"><b>Location: Colorado Taproom &amp\; Grill</b></span></span><br />\n<font color="#0099ff"><span style="caret-color: rgb(0\, 153\, 255)\;"><b>&nbsp\;</b></span></font><br />\n<strong>Join in this great opportunity to meet people and network with other chamber members. </strong></span><strong><strong style="font-size: 18px\; font-family: arial\;"><span style="color:#B22222\;">Lunchtime<span style="color: rgb(0\, 153\, 255)\;"> </span>Leads</span></strong><font face="arial"><span style="font-size: 20px\;">&nbsp\;will showcase their businesses while you&nbsp\;enjoy&nbsp\;refreshments and games. &nbsp\;This is your chance to make yourself known to multiple local businesses in a relaxed after hours social setting.&nbsp\;</span></font></strong>
LOCATION:Colorado Taproom & Grill 19539 Hess Rd #101\, Parker\, CO 80134
UID:e.2085.5269
SEQUENCE:3
DTSTAMP:20260420T175946Z
URL:http://parkerchamber.sampleorg.com/events/details/business-after-hours-lunchtime-leads-group-5269
END:VEVENT

END:VCALENDAR
