BEGIN:VCALENDAR
VERSION:2.0
PRODID:-//ChamberMaster//Event Calendar 2.0//EN
METHOD:PUBLISH
X-PUBLISHED-TTL:P3D
REFRESH-INTERVAL:P3D
CALSCALE:GREGORIAN
BEGIN:VEVENT
DTSTART:20220706T220000Z
DTEND:20220706T230000Z
X-MICROSOFT-CDO-ALLDAYEVENT:FALSE
SUMMARY:Business Connections Leads Group
DESCRIPTION:Networking groups promote other member businesses primarily by increasing business opportunities through the building of valuable relationships.  The Parker Area Chamber of Commerce offers five networking groups exclusive to its members.  Each group is limited to one occupation per group.
X-ALT-DESC;FMTTYPE=text/html:Networking groups promote other member businesses primarily by increasing business opportunities through the building of valuable relationships.&nbsp\; The Parker Area Chamber of Commerce offers five networking groups exclusive to its members.&nbsp\;&nbsp\;Each group is limited to one occupation per group.
LOCATION:Douglas County Libraries - Parker Branch 20105 E. Mainstreet Parker\, CO 80138
UID:e.2085.5793
SEQUENCE:3
DTSTAMP:20260420T043519Z
URL:http://parkerchamber.sampleorg.com/events/details/business-connections-leads-group-07-06-2022-5793
END:VEVENT

END:VCALENDAR
