BEGIN:VCALENDAR
VERSION:2.0
PRODID:-//ChamberMaster//Event Calendar 2.0//EN
METHOD:PUBLISH
X-PUBLISHED-TTL:P3D
REFRESH-INTERVAL:P3D
CALSCALE:GREGORIAN
BEGIN:VEVENT
DTSTART:20210929T143000Z
DTEND:20210929T160000Z
X-MICROSOFT-CDO-ALLDAYEVENT:FALSE
SUMMARY:Business Over Breakfast - Hosted by the Parker Library
DESCRIPTION:BOB - Business Over Breakfast   is a terrific morning networking opportunity. Make connections and learn valuable information that can help your business grow!\n\n\n\nPlease join at the Parker Library for a super informative session from Douglas County Libraries. There are literally THOUSANDS of business-focused resources available to you for free\, and we bet you don't know about most of them!\n\n\n\nThe local Parker Library staff will share the many ways that the library supports and connects with our local businesses.  Enjoy coffee and pastries\, check out the Library's meeting space\, and learn about some non-traditional library perks. \n\n\n\nAll this while enjoying some awesome networking. RSVP now and join us!
X-ALT-DESC;FMTTYPE=text/html:<div style="color:rgb(0\, 0\, 0)\;font-family:HelveticaNeue-Medium\;font-size:14px\;text-size-adjust:auto\;"><span style="font-size:18px\;">BOB - Business Over Breakfast &ndash\; is a terrific morning networking opportunity. Make connections and learn valuable information that can help your business grow!<br />\n<br />\nPlease join at the Parker Library for a super informative session from Douglas County Libraries. There are literally THOUSANDS of business-focused resources available to you for free\, and we bet you don&#39\;t know about most of them!<br />\n<br />\nThe local Parker Library staff&nbsp\;will share the many ways that the library supports and connects with our local businesses.&nbsp\; Enjoy coffee and pastries\, check out the Library&#39\;s&nbsp\;meeting space\, and learn about some non-traditional library perks.&nbsp\;<br />\n<br />\nAll this while enjoying some awesome networking. RSVP now and join us!&nbsp\;&nbsp\;</span></div>\n\n<div style="color:rgb(0\, 0\, 0)\;font-family:HelveticaNeue-Medium\;font-size:14px\;text-size-adjust:auto\;"><span style="font-size:18px\;">&nbsp\;</span></div>\n
LOCATION:Parker Library 20105 Mainstreet\, Parker\, CO 80138
UID:e.2085.5268
SEQUENCE:3
DTSTAMP:20260420T193608Z
URL:http://parkerchamber.sampleorg.com/events/details/business-over-breakfast-hosted-by-the-parker-library-5268
END:VEVENT

END:VCALENDAR
