BEGIN:VCALENDAR
VERSION:2.0
PRODID:-//ChamberMaster//Event Calendar 2.0//EN
METHOD:PUBLISH
X-PUBLISHED-TTL:P3D
REFRESH-INTERVAL:P3D
CALSCALE:GREGORIAN
BEGIN:VEVENT
DTSTART:20230126T153000Z
DTEND:20230126T163000Z
X-MICROSOFT-CDO-ALLDAYEVENT:FALSE
SUMMARY:Business Over Breakfast - "Maximize Your Google Impact" - sponsored by Ent Credit Union
DESCRIPTION:The Parker Chamber of Commerce is excited to offer its BUSINESS OVER BREAKFAST to make our members aware of practical resources that will help their business exceed!\n\n\n\nWe are proud to bring direct marketing expert\, Meredith Siss\, "The Marketing Maiden\," to Parker to help our members better understand the power of Google and functions they might not be using to their maximum potential. For over six years\, Meredith has focused on improving the world of Small Business Marketing and helping her clients get more from their marketing through brand messaging and marketing strategy. She is a StoryBrand Certified Guide and published author with her third journal on the way soon!\n\n\n\nCome network and learn with other members. You'll leave with smart\, actionable steps you apply to your business immediately.\n\n\n\nLight breakfast provided by St. Matthew's Episcopal Church.\n\n\n\nEvent Sponsored by ENT Credit Union
X-ALT-DESC;FMTTYPE=text/html:<font size="3">The Parker Chamber of Commerce is excited to offer its </font><span style="font-size: 16px\; color: rgb(128\, 0\, 0)\;"><strong>BUSINESS OVER BREAKFAST</strong></span><font size="3"> to make our members aware of practical resources that will help their business exceed!</font><br>\n<br>\n<font size="3">We are proud to bring direct marketing expert\, </font><a href="https://marketingmaiden.com" style="font-size: 16px\;"><strong>Meredith Siss</strong></a><font size="3">\, "The Marketing Maiden\," to Parker to help our members better understand the power of Google and functions they might not be using to their maximum potential. For over six years\, Meredith has&nbsp\;focused on improving the world of Small Business Marketing and helping her clients get more from&nbsp\;their marketing through brand messaging and marketing strategy. She is a StoryBrand Certified&nbsp\;Guide and published author with her third journal on the way soon!</font><br>\n<br>\n<strong style="font-size: 16px\;">Come network and learn with other members.</strong><font size="3"> You'll leave with smart\, actionable steps you apply to your business immediately.</font><br>\n<br>\n<font size="3">Light breakfast provided by St. Matthew's Episcopal Church.</font><br>\n<br>\n<i><font size="3">Event Sponsored by <span style="font-family:arial\;"><span style="font-size:16px\;">ENT Credit Union</span></span></font></i><br>\n&nbsp\;\n<p dir="ltr" style="box-sizing: border-box\; color: rgb(27\, 36\, 50)\; font-family: &quot\;Tenor Sans&quot\;\, sans-serif\; font-size: 16.4859px\;">&nbsp\;</p>\n
LOCATION:St. Matthew's Episcopal Church 19580 Pilgrims Place Parker\, CO 80138
UID:e.2085.5810
SEQUENCE:3
DTSTAMP:20260419T190959Z
URL:http://parkerchamber.sampleorg.com/events/details/business-over-breakfast-maximize-your-google-impact-sponsored-by-ent-credit-union-5810
END:VEVENT

END:VCALENDAR
