BEGIN:VCALENDAR
VERSION:2.0
PRODID:-//ChamberMaster//Event Calendar 2.0//EN
METHOD:PUBLISH
X-PUBLISHED-TTL:P3D
REFRESH-INTERVAL:P3D
CALSCALE:GREGORIAN
BEGIN:VEVENT
DTSTART:20230427T143000Z
DTEND:20230427T160000Z
X-MICROSOFT-CDO-ALLDAYEVENT:FALSE
SUMMARY:Business Over Breakfast - "Next Level Networking" - Sponsored by Ent Credit Union
DESCRIPTION:The Parker Chamber of Commerce is excited to offer its BUSINESS OVER BREAKFAST to make our members aware of practical resources that will help their business exceed!\n\n\n\nWe are proud to bring Keith Bailey\, with Articulated Intelligence\, to Parker to help our members learn to continue to build relationships past the initial networking events. Get ready for NEXT LEVEL NETWORKING!\n\n\n\nCome and learn with other members. Learn how to proactively connect\, stay top of mind\, and invest in connections to grow your relationship equity. You'll leave with actionable steps you apply to your business immediately. \n\n\n\nThe event is sponsored by Ent Credit Union.\n\n \nKeith Bailey - Speaker\, Coach\, Storyteller \n\nKeith has had a passion for public speaking since experiencing a seminal moment in the 4th grade while delivering a book report. From the hospitality industry to global corporate sales\, he learned the power of storytelling for profit\, influence and fun. \n\nDuring his 16 years as a coach\, his 8 years as a Toastmaster\, and his ongoing involvement in the National Speakers Association\, Keith has learned that good speakers are created\, not born. To give everyone the opportunity to live life well spoken Keith started Articulated Intelligence\, a communication up-leveling firm where he developed a gamified storytelling technique called With 1 Word  . He and the Articulated Intelligence team focus on networking and storytelling to build personal and professional brands\, promote ideas\, sell products/services and make human interactions more interesting and memorable.
X-ALT-DESC;FMTTYPE=text/html:<font size="3">The Parker Chamber of Commerce is excited to offer its </font><span style="font-size: 16px\; color: rgb(128\, 0\, 0)\;"><strong>BUSINESS OVER BREAKFAST</strong></span><font size="3"> to make our members aware of practical resources that will help their business exceed!</font><br />\n<br />\n<font size="3">We are proud to bring&nbsp\;Keith Bailey\, with&nbsp\;<a href="https://www.articulated-intelligence.com/workshops-1">Articulated&nbsp\;Intelligence</a>\,&nbsp\;to Parker to help our members learn to continue to build&nbsp\;relationships past the initial networking events. Get ready for <strong>NEXT LEVEL NETWORKING!</strong></font><br />\n<br />\n<strong style="font-size: 16px\;">Come and learn with other members.</strong><font size="3">&nbsp\;Learn how to proactively connect\, stay top of mind\, and invest in connections to grow your&nbsp\;relationship equity.&nbsp\;</font><span style="font-size: medium\;">You&#39\;ll leave with actionable steps you apply to your business immediately.&nbsp\;</span><br />\n<br />\n<i style="font-size: 16px\;">The event is sponsored by <a href="https://www.ent.com/our-locations/denver-region/cottonwood-service-center/">Ent Credit Union</a>.</i><br />\n&nbsp\;\n<p style="margin-right: 0in\; margin-left: 0in\; font-size: medium\; font-family: &quot\;Times New Roman&quot\;\, serif\; caret-color: rgb(0\, 0\, 0)\; color: rgb(0\, 0\, 0)\;"><b><span style="font-size: 18pt\; font-family: OpenSans\, serif\; color: rgb(66\, 81\, 104)\;">Keith Bailey - Speaker\, Coach\, Storyteller&nbsp\;</span></b><o:p></o:p></p>\n\n<p style="margin-right: 0in\; margin-left: 0in\; font-size: medium\; font-family: &quot\;Times New Roman&quot\;\, serif\; caret-color: rgb(0\, 0\, 0)\; color: rgb(0\, 0\, 0)\;"><b><span style="font-family: OpenSans\, serif\; color: rgb(66\, 81\, 104)\;">Keith has had a passion for public speaking since experiencing a seminal moment in the 4th grade while delivering a book report. From the hospitality industry to global corporate sales\, he learned the power of storytelling for profit\, influence and fun.&nbsp\;</span></b><o:p></o:p></p>\n\n<p style="margin-right: 0in\; margin-left: 0in\; font-size: medium\; font-family: &quot\;Times New Roman&quot\;\, serif\; caret-color: rgb(0\, 0\, 0)\; color: rgb(0\, 0\, 0)\;"><b><span style="font-family: OpenSans\, serif\; color: rgb(66\, 81\, 104)\;">During his 16 years as a coach\, his 8 years as a Toastmaster\, and his ongoing involvement in the National Speakers Association\, Keith has learned that good speakers are created\, not born. To give everyone the opportunity to live life well spoken Keith started Articulated Intelligence\, a communication up-leveling firm where he developed a gamified storytelling technique called With 1 Word &reg\;. He and the Articulated Intelligence team focus on networking and storytelling to build personal and professional brands\, promote ideas\, sell products/services and make human interactions more interesting and memorable.&nbsp\;&nbsp\;</span></b><o:p></o:p></p>\n<br />\n<br />\n&nbsp\;\n<p dir="ltr" style="box-sizing: border-box\; color: rgb(27\, 36\, 50)\; font-family: &quot\;Tenor Sans&quot\;\, sans-serif\; font-size: 16.4859px\;">&nbsp\;</p>\n
LOCATION:ENT Credit Union 18700 Cottonwood Drive Parker\, CO 80138
UID:e.2085.5821
SEQUENCE:3
DTSTAMP:20260419T160546Z
URL:http://parkerchamber.sampleorg.com/events/details/business-over-breakfast-next-level-networking-sponsored-by-ent-credit-union-5821
END:VEVENT

END:VCALENDAR
