BEGIN:VCALENDAR
VERSION:2.0
PRODID:-//ChamberMaster//Event Calendar 2.0//EN
METHOD:PUBLISH
X-PUBLISHED-TTL:P3D
REFRESH-INTERVAL:P3D
CALSCALE:GREGORIAN
BEGIN:VEVENT
DTSTART:20230330T230000Z
DTEND:20230331T010000Z
X-MICROSOFT-CDO-ALLDAYEVENT:FALSE
SUMMARY:CANCELLED After Hours Networking - The Swing Bays
DESCRIPTION:THIS EVENT HAS BEEN CANCELLED. WE APOLOGIZE FOR THE INCONVENIENCE.
X-ALT-DESC;FMTTYPE=text/html:<b>THIS EVENT HAS BEEN CANCELLED. WE APOLOGIZE FOR THE INCONVENIENCE.&nbsp\;</b>
LOCATION:The Swing Bays 11183 South Parker Road\, Unit A Parker\, CO 80134
UID:e.2085.5901
SEQUENCE:3
DTSTAMP:20260419T160225Z
URL:http://parkerchamber.sampleorg.com/events/details/cancelled-after-hours-networking-the-swing-bays-5901
END:VEVENT

END:VCALENDAR
