BEGIN:VCALENDAR
VERSION:2.0
PRODID:-//ChamberMaster//Event Calendar 2.0//EN
METHOD:PUBLISH
X-PUBLISHED-TTL:P3D
REFRESH-INTERVAL:P3D
CALSCALE:GREGORIAN
BEGIN:VEVENT
DTSTART:20241007T181500Z
DTEND:20241007T221500Z
X-MICROSOFT-CDO-ALLDAYEVENT:FALSE
SUMMARY:CANDIDATE FORUMS: State and County Offices (Members Only)
DESCRIPTION:The Castle Rock and Parker chambers of commerce are joining forces for two candidate forums for candidates for Douglas County and State elected offices.\n\n\n\nThese events are for members of the two chambers only.\n\n\n\nCandidates for State Representative for Districts 43\, 44\, and 45 will face members of the chambers' government affairs committees from 12:30pm-2:00pm  Candidates for State Senate District 2 and County Commissioner will face off from 2:30pm-4:00pm.  All questions will come from the chamber committees.  No attendee Q&A will be featured at this event.\n\n\n\nThank you to Aloha Fund for sponsoring this event.\n\n\n\nA recording of both of these forums will be posted to the two chambers' social media accounts within 24 hours. Thank you to the Douglas County Republican Party and the Douglas County Democratic Party for their grants to sponsor the videography of these events.
X-ALT-DESC;FMTTYPE=text/html:The Castle Rock and Parker chambers of commerce are joining forces for two candidate forums for candidates for Douglas County and State elected offices.<br />\n<br />\n<span style="font-size:22px\;"><strong>These events are for members of the two chambers only.</strong></span><br />\n<br />\nCandidates for State Representative for Districts 43\, 44\, and 45 will face members of the chambers&#39\; government affairs committees from 12:30pm-2:00pm&nbsp\; Candidates for State Senate District 2 and County Commissioner will face off from 2:30pm-4:00pm.&nbsp\; All questions will come from the chamber committees.&nbsp\; No attendee Q&amp\;A will be featured at this event.<br />\n<br />\nThank you to <strong>Aloha Fund</strong> for sponsoring this event.<br />\n<br />\nA recording of both of these forums will be posted to the two chambers&#39\; social media accounts within 24 hours. Thank you to the <em><strong>Douglas County Republican Party</strong></em> and the <strong><em>Douglas County Democratic Party</em></strong> for their grants to sponsor the videography of these events.<br />\n&nbsp\;
LOCATION:Parker Library 20105 Mainstreet\, Parker EVENT HALL A&B
UID:e.2085.6926
SEQUENCE:3
DTSTAMP:20260420T113224Z
URL:http://parkerchamber.sampleorg.com/events/details/candidate-forums-state-and-county-offices-members-only-6926
END:VEVENT

END:VCALENDAR
