BEGIN:VCALENDAR
VERSION:2.0
PRODID:-//ChamberMaster//Event Calendar 2.0//EN
METHOD:PUBLISH
X-PUBLISHED-TTL:P3D
REFRESH-INTERVAL:P3D
CALSCALE:GREGORIAN
BEGIN:VEVENT
DTSTART;VALUE=DATE:20230317
DTEND;VALUE=DATE:20230318
TRANSP:TRANSPARENT
X-MICROSOFT-CDO-ALLDAYEVENT:TRUE
SUMMARY:Chamber Tour of the New VALE School
DESCRIPTION:The VALE (Venture Academy of Leadership and Entrepreneurship) School -- a new public high school within the Douglas County School District -- will open this fall with approximately 80 freshmen and sophomores.  Located in the former ACC Parker Campus location (next to Chaparral High School)\, the school is currently under massive renovation to get ready for the fall.\n\n\n\nThe Parker Chamber of Commerce plans to partner with VALE to place students in professional learning opportunities at area businesses.\n\n\n\nWould you like an early look at the school as it takes shape?  We will be hosting a private tour with the staff on Friday\, 3/17 (yes\, St. Patrick's Day) at 10:30am. Space is limited to 10 members in the tour.  We will add an additional tour time that day if demand is there.\n\n\n\nDue to the very limited space for this activity\, please only RSVP if you are certain you will be able to attend.
X-ALT-DESC;FMTTYPE=text/html:The VALE (Venture Academy of Leadership and Entrepreneurship) School -- a new public high school within the Douglas County School District -- will open this fall with approximately 80 freshmen and sophomores.&nbsp\; Located in the former ACC Parker Campus location (next to Chaparral High School)\, the school is currently under massive renovation to get ready for the fall.<br />\n<br />\nThe Parker Chamber of Commerce plans to partner with VALE to place students in professional learning opportunities at area businesses.<br />\n<br />\nWould you like an early look at the school as it takes shape?&nbsp\; We will be hosting a private tour with the staff on Friday\, 3/17 (yes\, St. Patrick&#39\;s Day) at 10:30am. Space is limited to 10 members in the tour.&nbsp\; We will add an additional tour time that day if demand is there.<br />\n<br />\n<em><strong>Due to the very limited space for this activity\, please only RSVP if you are certain you will be able to attend.&nbsp\;</strong></em>
LOCATION:15653 Brookstone Dr. Parker\, CO 80134
UID:e.2085.5925
SEQUENCE:3
DTSTAMP:20260419T160744Z
URL:http://parkerchamber.sampleorg.com/events/details/chamber-tour-of-the-new-vale-school-5925
END:VEVENT

END:VCALENDAR
