BEGIN:VCALENDAR
VERSION:2.0
PRODID:-//ChamberMaster//Event Calendar 2.0//EN
METHOD:PUBLISH
X-PUBLISHED-TTL:P3D
REFRESH-INTERVAL:P3D
CALSCALE:GREGORIAN
BEGIN:VEVENT
DTSTART:20221207T160000Z
DTEND:20221207T180000Z
X-MICROSOFT-CDO-ALLDAYEVENT:FALSE
SUMMARY:Coffee with a Cop (Parker Police Dept special event)
DESCRIPTION:Parker Chamber members are invited to build a stronger relationship with the Parker Police Department at their annual "Coffee with a Cop" event on Wednesday\, December 7\, from 9:00-11:00 am.  The Parker PD is placing special emphasis at this year's event on building relationships with the local business community. Come enjoy a warm drink\, guided tours of the PD\, and a chance to connect with your local law enforcement team. You don't need to register\, just show up. Please put it on your calendar and join us!
X-ALT-DESC;FMTTYPE=text/html:<span style="font-size:16px\;"><span style="caret-color: rgb(0\, 0\, 0)\; color: rgb(0\, 0\, 0)\; font-family: HelveticaNeue-Medium\; text-size-adjust: auto\;">Parker Chamber members are invited to build a stronger relationship with the Parker Police Department at their annual &ldquo\;Coffee with a Cop&rdquo\; event on Wednesday\, December 7\, from 9:00-11:00 am. &nbsp\;The Parker PD is placing special emphasis at this year&rsquo\;s event on building relationships with the local business community. Come enjoy a warm drink\, guided tours of the PD\, and a chance to connect with your local law enforcement team. You don&rsquo\;t need to register\, just show up. Please put it on your calendar and join us!</span></span>
LOCATION:Parker Police Department 18600 Lincoln Meadows Parkway Parker\, CO 80134
UID:e.2085.5827
SEQUENCE:3
DTSTAMP:20260419T204011Z
URL:http://parkerchamber.sampleorg.com/events/details/coffee-with-a-cop-parker-police-dept-special-event-5827
END:VEVENT

END:VCALENDAR
