BEGIN:VCALENDAR
VERSION:2.0
PRODID:-//ChamberMaster//Event Calendar 2.0//EN
METHOD:PUBLISH
X-PUBLISHED-TTL:P3D
REFRESH-INTERVAL:P3D
CALSCALE:GREGORIAN
BEGIN:VEVENT
DTSTART:20230405T190000Z
DTEND:20230405T203000Z
X-MICROSOFT-CDO-ALLDAYEVENT:FALSE
SUMMARY:Colorado Public Health Works Registered Apprenticeships
DESCRIPTION:Colorado Public Health Works is a groundbreaking AmeriCorps Apprenticeship program providing career entry into the field of public health from local communities throughout Colorado. This innovative program marks the first time AmeriCorps has integrated with a registered community health worker apprenticeship program and is paving new pathways into the field for Colorado's next generation of public health leaders. Come learn how your organization can partner with the Colorado Public Health Works program as a host site for apprentices and what supports are available through Arapahoe/Douglas Works! Register at http://bit.ly/3T3LTKj.
X-ALT-DESC;FMTTYPE=text/html:Colorado Public Health Works is a groundbreaking AmeriCorps Apprenticeship program providing career entry into the field of public health from local communities throughout Colorado. This innovative program marks the first time AmeriCorps has integrated with a registered community health worker apprenticeship program and is paving new pathways into the field for Colorado&rsquo\;s next generation of public health leaders. Come learn how your organization can partner with the Colorado Public Health Works program as a host site for apprentices and what supports are available through Arapahoe/Douglas Works! Register at http://bit.ly/3T3LTKj.
LOCATION:Lima Plaza 6954 S. Lima Street Centennial\, CO 80112 Arapahoe Boardroom (inside the DMV
UID:e.2085.6200
SEQUENCE:3
DTSTAMP:20260419T160620Z
URL:http://parkerchamber.sampleorg.com/events/details/colorado-public-health-works-registered-apprenticeships-6200
END:VEVENT

END:VCALENDAR
