BEGIN:VCALENDAR
VERSION:2.0
PRODID:-//ChamberMaster//Event Calendar 2.0//EN
METHOD:PUBLISH
X-PUBLISHED-TTL:P3D
REFRESH-INTERVAL:P3D
CALSCALE:GREGORIAN
BEGIN:VEVENT
DTSTART:20230112T183000Z
DTEND:20230112T200000Z
X-MICROSOFT-CDO-ALLDAYEVENT:FALSE
SUMMARY:Colorado Secure Savings - Is Your Company Ready?
DESCRIPTION:This is a program of the Castle Rock Chamber of Commerce. Parker Chamber members are invited to participate.\n\n\n\n\n\nIn 2020 Colorado passed the Colorado SecureSavings Program.  This law mandates that certain small business owners not yet offering retirement plans to employees enroll in a state-run retirement savings plan\, starting in 2023.\n\n\n\nIn Colorado\, more than 40% of our private-sector workforce does not have access to a retirement savings plan at work   nearly 940\,000 workers. Colorado SecureSavings was created to meet this urgent need.\n\nWith Colorado SecureSavings\, businesses can help their employees save for retirement in a convenient\, portable Roth Individual Retirement Account (IRA). This new program is an easy way for Colorado employees to save for the future.\n\n\n\nBut what does all this mean for YOU\, the business owner?  We know you have questions\, we have answers.   \n\n\n\nSpeaker: \n\n\n\nDerek Rollingson is a financial professional who specializes in wealth and asset management. Mr. Rollingson's background includes 19 years of asset management.
X-ALT-DESC;FMTTYPE=text/html:<p class="contentpasted0" style="box-sizing: border-box\; margin: 11.25pt 0in\; color: rgb(82\, 82\, 82)\; font-family: Arial\, Helvetica\, sans-serif\; font-size: 14px\; background-image: initial\; background-position: initial\; background-size: initial\; background-repeat: initial\; background-attachment: initial\; background-origin: initial\; background-clip: initial\;"><span style="box-sizing: border-box\;"><span style="box-sizing: border-box\;"><span style="box-sizing: border-box\; color: rgb(46\, 44\, 42)\; letter-spacing: 1px\;">This is a program of the Castle Rock Chamber of Commerce. Parker Chamber members are invited to participate.<br />\n<br />\n<br />\nIn 2020 Colorado passed the <a href="https://coloradosecuresavings.com/employers/program-details"><strong>Colorado SecureSavings Program</strong></a>.&nbsp\;&nbsp\;This law mandates that certain small business owners not yet offering retirement plans to employees enroll in a state-run retirement savings plan\, starting in 2023.</span><br />\n<br style="box-sizing: border-box\;" />\n<span style="box-sizing: border-box\;">In Colorado\,&nbsp\;</span><span style="box-sizing: border-box\; font-weight: bolder\;">more than 40% of our private-sector workforce does not have access to a retirement savings plan at work &mdash\; nearly 940\,000 workers</span><span style="box-sizing: border-box\;">. Colorado SecureSavings was created to meet this urgent need.</span></span></span></p>\n\n<p style="box-sizing: border-box\; margin: 0px 0px 1.4em\; color: rgb(82\, 82\, 82)\; font-size: 14px\; line-height: 1.5em\; font-family: Sarabun\, Helvetica\, Arial\, sans-serif\;"><span style="box-sizing: border-box\;"><span style="box-sizing: border-box\;"><span style="box-sizing: border-box\;">With Colorado SecureSavings\, businesses can help their employees save for retirement in a convenient\, portable Roth Individual Retirement Account (IRA). This new program is an easy way for Colorado employees to save for the future.<br style="box-sizing: border-box\;" />\n<br style="box-sizing: border-box\;" />\nBut what does all this mean for YOU\, the business owner?&nbsp\;&nbsp\;We know you have questions\, we have answers.&nbsp\; &nbsp\;</span><br style="box-sizing: border-box\;" />\n<br style="box-sizing: border-box\;" />\n<span helvetica="" style="box-sizing: border-box\;"><span style="box-sizing: border-box\; font-weight: bolder\;">Speaker:</span>&nbsp\;<br />\n<br style="box-sizing: border-box\;" />\nDerek Rollingson is a financial professional who specializes in wealth and asset management.&nbsp\;</span></span></span><span style="box-sizing: border-box\;"><span style="box-sizing: border-box\;">Mr. Rollingson&#39\;s background includes 19 years of asset management.&nbsp\;&nbsp\;</span></span></p>\n
LOCATION:IN-PERSON EVENT Arapahoe Community College\, Sturm Campus Community Room 4500 Limelight Ave Castle Rock\, CO 80109
UID:e.2085.5868
SEQUENCE:3
DTSTAMP:20260419T203106Z
URL:http://parkerchamber.sampleorg.com/events/details/colorado-secure-savings-is-your-company-ready-5868
END:VEVENT

END:VCALENDAR
