BEGIN:VCALENDAR
VERSION:2.0
PRODID:-//ChamberMaster//Event Calendar 2.0//EN
METHOD:PUBLISH
X-PUBLISHED-TTL:P3D
REFRESH-INTERVAL:P3D
CALSCALE:GREGORIAN
BEGIN:VEVENT
DTSTART:20210907T210000Z
DTEND:20210908T020000Z
X-MICROSOFT-CDO-ALLDAYEVENT:FALSE
SUMMARY:Culver's Spirit Night Benefit
DESCRIPTION:Culver's will be donating proceeds from sales from 3:00 - 8:00 pm on Tuesday\, September 7\, to the Chamber to support September's North Pole Family Reunion!  Stop in for a delicious burger or cup of frozen custard and support the chamber!\n\n\n\nWe hear that Santa and Mrs. Claus will be making an appearance that evening\, too!
X-ALT-DESC;FMTTYPE=text/html:<br />\n<br />\n<span style="font-size:16px\;"><a href="https://www.culvers.com/restaurants/parker-co"><strong>Culver&#39\;s</strong></a> will be donating proceeds from sales from 3:00 - 8:00 pm on Tuesday\, September 7\, to the Chamber to support September&#39\;s <em><a href="https://business.parkerchamber.com/events/details/north-pole-family-reunion-5105">North Pole Family Reunion</a></em>!&nbsp\; Stop in for a delicious burger or cup of frozen custard and support the chamber!<br />\n<br />\nWe hear that Santa and Mrs. Claus will be making an appearance that evening\, too!</span>
LOCATION:18561 Mainstreet Parker\, CO 80134
UID:e.2085.5282
SEQUENCE:3
DTSTAMP:20260420T193913Z
URL:http://parkerchamber.sampleorg.com/events/details/culver-s-spirit-night-benefit-5282
END:VEVENT

END:VCALENDAR
