BEGIN:VCALENDAR
VERSION:2.0
PRODID:-//ChamberMaster//Event Calendar 2.0//EN
METHOD:PUBLISH
X-PUBLISHED-TTL:P3D
REFRESH-INTERVAL:P3D
CALSCALE:GREGORIAN
BEGIN:VEVENT
DTSTART:20221118T143000Z
DTEND:20221118T163000Z
X-MICROSOFT-CDO-ALLDAYEVENT:FALSE
SUMMARY:Economic Update Breakfast 2022 - Presented by CORE Electric Cooperative
DESCRIPTION:Join us for Parker's most important networking event of the year!\n\n\n\nThe Parker Chamber of Commerce's Government Affairs Committee is proud to provide its annual Economic Update Breakfast to arm our members and community with information critical to local businesses in 2023.  \n\n\n\nThe presenting sponsor for this event is CORE Electric Cooperative!\n\n\n\nSpeakers will share data and observations that will impact Parker's businesses in the coming year. This is a non-partisan event.\n\n\n\nThis event will feature a full hot breakfast. This event is open to the public. Participation is limited to approximately 175 individuals.\n\n\n\nKeynote Speakers\n\n\n\nPatrick Meyers\n\nChief Economic Recovery Officer for the State of Colorado OEDIT\n\nPeter Lifari\n\nExecutive Director\, Maiker Housing Partners\n\nDr. Mary Kelly\n\nEconomist\, Author\, Leadership Speaker\n\n\n\nThank you to our speaker sponsors:\n\nFirstBank\n\nParker Adventist Hospital\n\nColorado Housing & Finance Authority (CHFA)\n\n\n\nThank you to our breakfast buffet sponsor:\n\nWAXIE Sanitary Supply\n\n\n\nThis event will also serve as the annual meeting for the Parker Chamber of Commerce\, and members in good standing in attendance will be asked to approve the slate of officers for the Chamber for 2023.
X-ALT-DESC;FMTTYPE=text/html:<span style="font-size:18px\;">Join us for Parker&#39\;s most important networking event of the year!<br />\n<br />\nThe Parker Chamber of Commerce&#39\;s Government Affairs Committee is proud to provide its annual&nbsp\;<strong>Economic Update Breakfast</strong>&nbsp\;to arm our members and community with information critical to local businesses in 2023.&nbsp\;&nbsp\;<br />\n<br />\n<font face="Tahoma\, sans-serif"><b><i><span style="color:#FF0000\;">The presenting sponsor for this event is </span><a href="https://core.coop/"><span style="color:#FF0000\;">CORE Electric Cooperative</span></a><span style="color:#FF0000\;">!</span></i></b></font><br />\n<br />\nSpeakers will share data and observations that will impact Parker&#39\;s businesses in the coming year. <strong><em>This is a non-partisan event.</em></strong><br />\n<br />\nThis event will feature a full hot breakfast. This event is open to the public. Participation is limited to approximately 175 individuals.<br />\n<br />\n<strong>Keynote Speakers</strong><br />\n<br />\n<span style="font-size:14px\;"><strong>Patrick Meyers</strong><br />\nChief Economic Recovery Officer for the State of Colorado OEDIT<br />\n<strong>Peter Lifari</strong><br />\nExecutive Director\, Maiker Housing Partners<br />\n<strong>Dr. Mary Kelly</strong><br />\nEconomist\, Author\, Leadership Speaker</span><br />\n<br />\n<em><strong>Thank you to our speaker sponsors:<br />\n<a href="https://www.efirstbank.com/">FirstBank</a><br />\n<a href="https://www.centura.org/location/parker-adventist-hospital">Parker Adventist Hospital</a><br />\n<a href="https://www.chfainfo.com/">Colorado Housing &amp\; Finance Authority (CHFA)</a></strong></em></span><br />\n<br />\n<em style="font-size: 18px\;"><strong>Thank you to our breakfast buffet sponsor:<br />\n<a href="http://www.waxie.com">WAXIE Sanitary Supply</a></strong></em><br />\n<br />\n<span style="font-size:18px\;"><span style="font-size:12px\;">This event will also serve as the annual meeting for the Parker Chamber of Commerce\, and members in good standing in attendance will be asked to approve the slate of officers for the Chamber for 2023.</span></span>
LOCATION:PACE Center Event Room 20000 Pikes Peak Ave.\, Parker 80138
UID:e.2085.5503
SEQUENCE:3
DTSTAMP:20260419T234453Z
URL:http://parkerchamber.sampleorg.com/events/details/economic-update-breakfast-2022-presented-by-core-electric-cooperative-5503
END:VEVENT

END:VCALENDAR
