BEGIN:VCALENDAR
VERSION:2.0
PRODID:-//ChamberMaster//Event Calendar 2.0//EN
METHOD:PUBLISH
X-PUBLISHED-TTL:P3D
REFRESH-INTERVAL:P3D
CALSCALE:GREGORIAN
BEGIN:VEVENT
DTSTART:20211112T143000Z
DTEND:20211112T160000Z
X-MICROSOFT-CDO-ALLDAYEVENT:FALSE
SUMMARY:Economic Update Breakfast
DESCRIPTION:This event is SOLD OUT and we are no longer accepting registrations.\n\n\n\nThe Parker Chamber of Commerce's Government Affairs Committee is proud to provide this Economic Update Breakfast to help our members and community prepare for 2022.  \n\n\n\nThe theme is "Navigating Our Way Forward!"\n\n\n\nThis event is sponsored by Parker Adventist Hospital.\n\n\n\nSpeakers from the Town\, the County\, and the State to share data and observations that will impact Parker's businesses in the coming year.\n\n\n\nPlease join us at the Parker PACE Center Event Room on Friday\, November 12\, from 7:30 - 9:00 am.\n\n\n\nThis event will feature a hot breakfast. This event is open to the public. Participation is limited to approximately 100 individuals.\n\n\n\nThis event will also serve as the annual meeting for the Parker Chamber of Commerce\, and members in good standing in attendance will be asked to approve the slate of officers for the Chamber for 2022.
X-ALT-DESC;FMTTYPE=text/html:<br />\n<span style="font-size:16px\;"><em><strong><span style="font-size:22px\;">This event is SOLD OUT and we are no longer accepting registrations.</span></strong></em><br />\n<br />\nThe Parker Chamber of Commerce&#39\;s Government Affairs Committee is proud to provide this <strong>Economic Update Breakfast</strong>&nbsp\;to help our members and community prepare for 2022.&nbsp\;&nbsp\;<br />\n<br />\nThe theme is &quot\;Navigating Our Way Forward!&quot\;</span><br />\n<br />\n<em style="font-family: Tahoma\, sans-serif\; font-size: 16px\;"><strong><span style="color: rgb(0\, 0\, 128)\;">This event is sponsored by&nbsp\;</span><a href="https://www.centura.org/location/parker-adventist-hospital"><span style="color: rgb(0\, 0\, 128)\;">Parker Adventist Hospital</span></a><span style="color: rgb(0\, 0\, 128)\;">.</span></strong></em><br />\n<br />\n<span style="font-size:16px\;">Speakers from the Town\, the County\, and the State to share data and observations that will impact Parker&#39\;s businesses in the coming year.<br />\n<br />\nPlease join us at the Parker <strong>PACE Center</strong> Event Room on Friday\, November 12\, from 7:30 - 9:00 am.<br />\n<br />\nThis event will feature a hot breakfast. This event is open to the public. Participation is limited to approximately 100 individuals.<br />\n<br />\nThis event will also serve as the annual meeting for the Parker Chamber of Commerce\, and members in good standing in attendance will be asked to approve the slate of officers for the Chamber for 2022.</span>
LOCATION:PACE Center Event Room 20000 Pikes Peak Ave.\, Parker
UID:e.2085.5296
SEQUENCE:3
DTSTAMP:20260420T161847Z
URL:http://parkerchamber.sampleorg.com/events/details/economic-update-breakfast-5296
END:VEVENT

END:VCALENDAR
