BEGIN:VCALENDAR
VERSION:2.0
PRODID:-//ChamberMaster//Event Calendar 2.0//EN
METHOD:PUBLISH
X-PUBLISHED-TTL:P3D
REFRESH-INTERVAL:P3D
CALSCALE:GREGORIAN
BEGIN:VEVENT
DTSTART:20220712T163000Z
DTEND:20220712T180000Z
X-MICROSOFT-CDO-ALLDAYEVENT:FALSE
SUMMARY:FIRED UP: I Want To Start a Business!
DESCRIPTION:An in-person workshop for anyone interested in starting a new business.\n\n \n\n- Is Business Ownership for Me? (nuts and bolts)\n\n- Who is My Customer and Will They Buy from Me? (market research)\n\n- What Legal\, Licensing\, Permits\, and Insurance do I Need? (requirements for starting)\n\n- How Can I Set Up My Business for Success? (building the business model)\n\n\n\nThis will be an interactive workshop for those interested in making sure they have all the necessary tools in place to launch their business.\n\nNOTE:  The Colorado Business Resource Book will be referenced during the webinar.  Consider going to this link prior to the the class:\n\nhttps://www.ColoradoBusiness ResourceBook.com (copy and paste into your browser).
X-ALT-DESC;FMTTYPE=text/html:<p style="margin: 0px\; padding: 0px\; caret-color: rgb(62\, 62\, 62)\; color: rgb(62\, 62\, 62)\; font-family: Arial\, Verdana\, Helvetica\, sans-serif\; font-size: 14px\; text-size-adjust: auto\;"><span style="font-size:16px\;"><span style="color: rgb(0\, 0\, 0)\; font-family: Verdana\, Geneva\, sans-serif\;">An </span><span style="color: rgb(0\, 0\, 0)\; font-weight: bold\; font-family: Verdana\, Geneva\, sans-serif\;">in-person</span><span style="color: rgb(0\, 0\, 0)\; font-family: Verdana\, Geneva\, sans-serif\;"> workshop for anyone interested in starting a new business.</span></span></p>\n\n<p style="margin: 0px\; padding: 0px\; caret-color: rgb(62\, 62\, 62)\; color: rgb(62\, 62\, 62)\; font-family: Arial\, Verdana\, Helvetica\, sans-serif\; font-size: 14px\; text-size-adjust: auto\;">&nbsp\;</p>\n\n<p style="margin: 0px\; padding: 0px\; caret-color: rgb(62\, 62\, 62)\; color: rgb(62\, 62\, 62)\; font-family: Arial\, Verdana\, Helvetica\, sans-serif\; font-size: 14px\; text-size-adjust: auto\;"><span style="font-size:16px\;"><span style="font-family: Verdana\, Geneva\, sans-serif\;">- Is Business Ownership for Me? (nuts and bolts)</span></span></p>\n\n<p style="margin: 0px\; padding: 0px\; caret-color: rgb(62\, 62\, 62)\; color: rgb(62\, 62\, 62)\; font-family: Arial\, Verdana\, Helvetica\, sans-serif\; font-size: 14px\; text-size-adjust: auto\;"><span style="font-size:16px\;"><span style="font-family: Verdana\, Geneva\, sans-serif\;">- Who is My Customer and Will They Buy from Me? (market research)</span></span></p>\n\n<p style="margin: 0px\; padding: 0px\; caret-color: rgb(62\, 62\, 62)\; color: rgb(62\, 62\, 62)\; font-family: Arial\, Verdana\, Helvetica\, sans-serif\; font-size: 14px\; text-size-adjust: auto\;"><span style="font-size:16px\;"><span style="font-family: Verdana\, Geneva\, sans-serif\;">- What Legal\, Licensing\, Permits\, and Insurance do I Need? (requirements for starting)</span></span></p>\n\n<p style="margin: 0px\; padding: 0px\; caret-color: rgb(62\, 62\, 62)\; color: rgb(62\, 62\, 62)\; font-family: Arial\, Verdana\, Helvetica\, sans-serif\; font-size: 14px\; text-size-adjust: auto\;"><span style="font-size:16px\;"><span style="font-family: Verdana\, Geneva\, sans-serif\;">- How Can I Set Up My Business for Success? (building the business model)</span></span><br />\n<br />\n<span style="color: rgb(0\, 0\, 0)\; font-family: Arial\, Verdana\, sans-serif\; font-size: 13.6px\;">This will be an interactive workshop for those interested in making sure they have all the necessary tools in place to launch their business.</span><br style="color: rgb(0\, 0\, 0)\; font-family: Arial\, Verdana\, sans-serif\; font-size: 13.6px\;" />\n<span style="color: rgb(0\, 0\, 0)\; font-family: Arial\, Verdana\, sans-serif\; font-size: 13.6px\;">NOTE:&nbsp\; The&nbsp\;</span><strong style="margin: 0px\; padding: 0px\; border: 0px\; font-variant-numeric: inherit\; font-variant-east-asian: inherit\; font-stretch: inherit\; font-size: 13.6px\; line-height: inherit\; font-family: Arial\, Verdana\, sans-serif\; vertical-align: baseline\; color: rgb(131\, 153\, 193)\;">Colorado Business Resource Book</strong><span style="color: rgb(0\, 0\, 0)\; font-family: Arial\, Verdana\, sans-serif\; font-size: 13.6px\;">&nbsp\;will be referenced during the webinar.&nbsp\; Consider going to this link prior to the the class:</span><br style="color: rgb(0\, 0\, 0)\; font-family: Arial\, Verdana\, sans-serif\; font-size: 13.6px\;" />\n<strong style="margin: 0px\; padding: 0px\; border: 0px\; font-variant-numeric: inherit\; font-variant-east-asian: inherit\; font-stretch: inherit\; font-size: 13.6px\; line-height: inherit\; font-family: Arial\, Verdana\, sans-serif\; vertical-align: baseline\; color: rgb(131\, 153\, 193)\;">https://www.ColoradoBusiness ResourceBook.com</strong><span style="color: rgb(0\, 0\, 0)\; font-family: Arial\, Verdana\, sans-serif\; font-size: 13.6px\;">&nbsp\;(copy and paste into your browser).</span></p>\n
LOCATION:Parker Library 20105 E. Mainstreet Parker\, CO 80138
UID:e.2085.5806
SEQUENCE:3
DTSTAMP:20260420T060218Z
URL:http://parkerchamber.sampleorg.com/events/details/fired-up-i-want-to-start-a-business-5806
END:VEVENT

END:VCALENDAR
