BEGIN:VCALENDAR
VERSION:2.0
PRODID:-//ChamberMaster//Event Calendar 2.0//EN
METHOD:PUBLISH
X-PUBLISHED-TTL:P3D
REFRESH-INTERVAL:P3D
CALSCALE:GREGORIAN
BEGIN:VEVENT
DTSTART:20221201T180000Z
DTEND:20221201T190000Z
X-MICROSOFT-CDO-ALLDAYEVENT:FALSE
SUMMARY:Follow Up Session (Zoom) with Dr. Mary Kelly
DESCRIPTION:This special Zoom session is offered to attendees of the 11/18/22 Economic Update Breakfast as a follow-up to the keynote by Dr. Mary Kelly.\n\n \nFinish the year strong and set yourself up for a. prosperous 2023! \n\n\n\nThis program is based on Dr. Mary Kelly's best-selling book\, 15 Ways to Grow Your Business in Every Economy\, and it is updated to reflect the challenges we face in the new year. \n\n\n\nSpecifically\, we will: \n\n\n	Review the 10 mistakes most business owners make\, and how you can avoid them \n	Use processes and systems to be more efficient\n	Create a viable strategy that works for you and your business\n	Implement the tactics great businesses and sales teams use to stay in contact with their current and future customers
X-ALT-DESC;FMTTYPE=text/html:<span style="font-size:18px\;"><span style="font-family:arial\;">This special Zoom session is offered to attendees of the 11/18/22 Economic Update Breakfast as a follow-up to the keynote by Dr. Mary Kelly.</span></span><br>\n&nbsp\;\n<div style="caret-color: rgb(0\, 0\, 0)\; color: rgb(0\, 0\, 0)\; font-family: HelveticaNeue-Medium\; text-size-adjust: auto\;"><span style="font-size:18px\;"><span style="font-family:arial\;">Finish the year strong and set yourself up for a. prosperous 2023!&nbsp\;<br>\n<br>\nThis program is based on Dr. Mary Kelly's best-selling book\, <em>15 Ways to Grow Your Business in Every Economy</em>\, and it is updated to reflect the challenges we face in the new year.&nbsp\;</span></span></div>\n\n<div style="caret-color: rgb(0\, 0\, 0)\; color: rgb(0\, 0\, 0)\; font-family: HelveticaNeue-Medium\; text-size-adjust: auto\;"><br>\n<span style="font-size:18px\;"><span style="font-family:arial\;">Specifically\, we will:&nbsp\;</span></span></div>\n\n<ul>\n	<li style="caret-color: rgb(0\, 0\, 0)\; color: rgb(0\, 0\, 0)\; font-family: HelveticaNeue-Medium\; text-size-adjust: auto\;"><span style="font-size:18px\;"><span style="font-family:arial\;">Review the 10 mistakes most business owners make\, and how you can avoid them&nbsp\;</span></span></li>\n	<li style="caret-color: rgb(0\, 0\, 0)\; color: rgb(0\, 0\, 0)\; font-family: HelveticaNeue-Medium\; text-size-adjust: auto\;"><span style="font-size:18px\;"><span style="font-family:arial\;">Use processes and systems to be more efficient</span></span></li>\n	<li style="caret-color: rgb(0\, 0\, 0)\; color: rgb(0\, 0\, 0)\; font-family: HelveticaNeue-Medium\; text-size-adjust: auto\;"><span style="font-size:18px\;"><span style="font-family:arial\;">Create a viable strategy that works for you and your business</span></span></li>\n	<li style="caret-color: rgb(0\, 0\, 0)\; color: rgb(0\, 0\, 0)\; font-family: HelveticaNeue-Medium\; text-size-adjust: auto\;"><span style="font-size:18px\;"><span style="font-family:arial\;">Implement the tactics great businesses and sales teams use to stay in contact with their current and future customers</span></span></li>\n</ul>\n
LOCATION:on ZOOM Please register and credentials will be sent to you.
UID:e.2085.5822
SEQUENCE:3
DTSTAMP:20260419T204010Z
URL:http://parkerchamber.sampleorg.com/events/details/follow-up-session-zoom-with-dr-mary-kelly-5822
END:VEVENT

END:VCALENDAR
