BEGIN:VCALENDAR
VERSION:2.0
PRODID:-//ChamberMaster//Event Calendar 2.0//EN
METHOD:PUBLISH
X-PUBLISHED-TTL:P3D
REFRESH-INTERVAL:P3D
CALSCALE:GREGORIAN
BEGIN:VEVENT
DTSTART;VALUE=DATE:20230501
DTEND;VALUE=DATE:20230502
TRANSP:TRANSPARENT
X-MICROSOFT-CDO-ALLDAYEVENT:TRUE
SUMMARY:FREE SHOE SHINE EVENT at the Chamber Office
DESCRIPTION:Do you have a pair of dress shoes that could REALLY use a professional shine?\n\n\n\nWe've hired Denver Shine Company to set up a mobile booth in the Chamber Office from 9am - 2pm on Monday\, May 1.  We are taking reservations from members who want to enjoy this little free member appreciation activity.  You come chat with us\, and walk out with a gorgeously shiny pair of shoes.\n\n\n\nHere are the available times (changes daily):\n\n\n\n9:00 - 9:30 am  FULL\n\n9:30 - 10:00 am  3 SPOTS AVAILABLE\n\n10:00 - 10:30 am  FULL\n\n10:30 - 11:00 am  2 SPOTS AVAILABLE\n\n11:30 - 12:00 pm  1 SPOT AVAILABLE\n\n12:30 - 1:00 pm  3 SPOTS AVAILABLE\n\n1:30 - 2:00 pm   2 SPOTS AVAILABLE\n\n\n\nDo you want to claim a spot and join us?  Click register\, and let us know what 30-minute time block works for you.  Then come at that time and hang with us.  Shoes will be shined in the order that members arrive. \n\n\n\nWe are asking members to please tip the shoe-shine person.  Yes\, you can have your boots shined\, just tip extra!\n\n\n\nIf your plans change and you cannot come\, please please please\, call the Chamber Office at (303) 841-4268 and cancel your reserved spot.\n\n\n\nThis service is available to members only. One person per member company\, please.
X-ALT-DESC;FMTTYPE=text/html:<strong><span style="font-size:20px\;">Do you have a pair of dress shoes that could REALLY use a professional shine?</span></strong><br />\n<br />\nWe&#39\;ve hired <strong>Denver Shine Company</strong> to set up a mobile booth in the Chamber Office from 9am - 2pm on Monday\, May 1.&nbsp\; We are taking reservations from members who want to enjoy this little free member appreciation activity.&nbsp\; You come chat with us\, and walk out with a gorgeously shiny pair of shoes.<br />\n<br />\nHere are the available times (changes daily):<br />\n<br />\n9:00 - 9:30 am&nbsp\; <strong><span style="color:#FF0000\;">FULL</span></strong><br />\n9:30 - 10:00 am&nbsp\;<span style="color:#FF0000\;"><strong> 3 SPOTS AVAILABLE</strong></span><br />\n10:00 - 10:30 am&nbsp\; <span style="color:#FF0000\;"><strong>FULL</strong></span><br />\n10:30 - 11:00 am &nbsp\;2<span style="color:#FF0000\;"><strong>&nbsp\;SPOTS AVAILABLE</strong></span><br />\n11:30 - 12:00 pm &nbsp\;1<span style="color:#FF0000\;"><strong>&nbsp\;SPOT AVAILABLE</strong></span><br />\n12:30 - 1:00 pm&nbsp\; <span style="color:#FF0000\;"><strong>3 SPOTS AVAILABLE</strong></span><br />\n1:30 - 2:00 pm&nbsp\; &nbsp\;<span style="color:#FF0000\;"><strong>2 SPOTS AVAILABLE</strong></span><br />\n<br />\nDo you want to claim a spot and join us?&nbsp\; Click register\, and let us know what 30-minute time block works for you.&nbsp\; Then come at that time and hang with us.&nbsp\; Shoes will be shined in the order that members arrive.&nbsp\;<br />\n<br />\n<em><strong>We are asking members to please tip the shoe-shine person.&nbsp\;</strong></em> Yes\, you can have your boots shined\, just tip extra!<br />\n<br />\nIf your plans change and you cannot come\, please please please\, call the Chamber Office at (303) 841-4268 and cancel your reserved spot.<br />\n<br />\nThis service is available to members only. One person per member company\, please.<br />\n<br />\n&nbsp\;
LOCATION:Parker Chamber Office 19751 E. Mainstreet\, #R16 Parker\, CO 80138
UID:e.2085.6203
SEQUENCE:3
DTSTAMP:20260419T125626Z
URL:http://parkerchamber.sampleorg.com/events/details/free-shoe-shine-event-at-the-chamber-office-6203
END:VEVENT

END:VCALENDAR
