BEGIN:VCALENDAR
VERSION:2.0
PRODID:-//ChamberMaster//Event Calendar 2.0//EN
METHOD:PUBLISH
X-PUBLISHED-TTL:P3D
REFRESH-INTERVAL:P3D
CALSCALE:GREGORIAN
BEGIN:VEVENT
DTSTART:20230321T150000Z
DTEND:20230321T170000Z
X-MICROSOFT-CDO-ALLDAYEVENT:FALSE
SUMMARY:Future of Work: Reshaping the Workplace
DESCRIPTION:Please join Arapahoe/Douglas Works! Business Services staff as they lead a discussion about the Future of Work: Reshaping the Workplace. *Understand how skill gaps create labor supply deficits. *Find out how remote work options can increase recruitment outreach. *Discover strategies to incorporate automation and artificial intelligence. *Hear why women are leaving the workforce and how to bring them back. *Realize the importance of digital literacy and ways you can help. *Learn how to rethink real estate strategies and reap the benefits. Guest Speakers *Patrick Holwell   Workforce Economist\, Arapahoe/Douglas Works! *Katherine Keegan   Director\, Office of the Future of Work
X-ALT-DESC;FMTTYPE=text/html:Please join Arapahoe/Douglas Works! Business Services staff as they lead a discussion about the Future of Work: Reshaping the Workplace. *Understand how skill gaps create labor supply deficits. *Find out how remote work options can increase recruitment outreach. *Discover strategies to incorporate automation and artificial intelligence. *Hear why women are leaving the workforce and how to bring them back. *Realize the importance of digital literacy and ways you can help. *Learn how to rethink real estate strategies and reap the benefits. Guest Speakers *Patrick Holwell &ndash\; Workforce Economist\, Arapahoe/Douglas Works! *Katherine Keegan &ndash\; Director\, Office of the Future of Work
LOCATION:Lima Plaza 6954 S. Lima Street Centennial\, CO 80112 Arapahoe Boardroom (inside the DMV)
UID:e.2085.5921
SEQUENCE:3
DTSTAMP:20260419T155324Z
URL:http://parkerchamber.sampleorg.com/events/details/future-of-work-reshaping-the-workplace-5921
END:VEVENT

END:VCALENDAR
