BEGIN:VCALENDAR
VERSION:2.0
PRODID:-//ChamberMaster//Event Calendar 2.0//EN
METHOD:PUBLISH
X-PUBLISHED-TTL:P3D
REFRESH-INTERVAL:P3D
CALSCALE:GREGORIAN
BEGIN:VEVENT
DTSTART:20221214T153000Z
DTEND:20221215T003000Z
X-MICROSOFT-CDO-ALLDAYEVENT:FALSE
SUMMARY:Holiday Open House
DESCRIPTION:JOIN US FOR A HOLIDAY open house. It's the season for giving   and we're giving AAA Members some more happy for the holidays. Come by our location for special holiday events and savings! Holiday Open House Events include: * Holiday Gift Bags * Prizes * Refreshments * Chance to win a $500 Amazon Gift Card\, set of luggage\, Avalanche Tickets\, National Western Stock Show Tickets and more! Not a member? Join today at AAA.com/GiftAAA EVERYONE IS WELCOME. BRING YOUR FRIENDS AND FAMILY!
X-ALT-DESC;FMTTYPE=text/html:JOIN US FOR A HOLIDAY open house. It&rsquo\;s the season for giving &mdash\; and we&rsquo\;re giving AAA Members some more happy for the holidays. Come by our location for special holiday events and savings! Holiday Open House Events include: * Holiday Gift Bags * Prizes * Refreshments * Chance to win a $500 Amazon Gift Card\, set of luggage\, Avalanche Tickets\, National Western Stock Show Tickets and more! Not a member? Join today at AAA.com/GiftAAA EVERYONE IS WELCOME. BRING YOUR FRIENDS AND FAMILY!
LOCATION:AAA Colorado - Parker 19240 Lincoln Ave\, Suite 120\, Parker\, CO 80138
UID:e.2085.5867
SEQUENCE:3
DTSTAMP:20260419T221144Z
URL:http://parkerchamber.sampleorg.com/events/details/holiday-open-house-5867
END:VEVENT

END:VCALENDAR
