BEGIN:VCALENDAR
VERSION:2.0
PRODID:-//ChamberMaster//Event Calendar 2.0//EN
METHOD:PUBLISH
X-PUBLISHED-TTL:P3D
REFRESH-INTERVAL:P3D
CALSCALE:GREGORIAN
BEGIN:VEVENT
DTSTART:20211208T153000Z
DTEND:20211208T170000Z
X-MICROSOFT-CDO-ALLDAYEVENT:FALSE
SUMMARY:HOLIDAY WOMEN'S FORUM - MEN INVITED - BLACK+HAUS TAVERN
DESCRIPTION:BLACK+HAUS TAVERN &\n\nTHE CORRIERE GROUP\n\n\n\nThe annual Holiday Women's Forum invite the Men of the Parker Chamber to this months event. This monthly networking event is for women and MEN of the Parker Chamber of Commerce to learn about and support each other's businesses.  Attendees are encouraged to bring business cards and marketing brochures. You are welcome to bring an item for the raffle drawing at the end of the event.
X-ALT-DESC;FMTTYPE=text/html:<strong><span style="font-family:tahoma\;"><span style="font-size:28px\;">BLACK+HAUS TAVERN &amp\;</span></span><br />\n<span style="font-size:22px\;"><span style="font-family:verdana\;">THE CORRIERE GROUP</span></span><br />\n<br />\n<span style="font-size: 18px\; font-style: italic\; font-family: arial\;">The annual Holiday Women&#39\;s Forum invite the Men of the Parker Chamber to this months event. This&nbsp\;monthly networking event is for women and MEN of the Parker Chamber of Commerce to learn about and support each other&#39\;s businesses.&nbsp\; Attendees are encouraged to bring business cards and marketing brochures. You are welcome to bring an item for the raffle drawing at the end of the event.</span></strong><br />\n&nbsp\;
LOCATION:Black+Haus Tavern
UID:e.2085.5285
SEQUENCE:3
DTSTAMP:20260420T145408Z
URL:http://parkerchamber.sampleorg.com/events/details/holiday-women-s-forum-men-invited-black-haus-tavern-5285
END:VEVENT

END:VCALENDAR
