BEGIN:VCALENDAR
VERSION:2.0
PRODID:-//ChamberMaster//Event Calendar 2.0//EN
METHOD:PUBLISH
X-PUBLISHED-TTL:P3D
REFRESH-INTERVAL:P3D
CALSCALE:GREGORIAN
BEGIN:VEVENT
DTSTART:20220128T160000Z
DTEND:20220128T183000Z
X-MICROSOFT-CDO-ALLDAYEVENT:FALSE
SUMMARY:"Keeping Great Employees" (Stronger Business Series Seminar)
DESCRIPTION:The Parker Chamber of Commerce is helping bring meaningful training to help your business attract\, retain\, and motivate your employee team.  Please join us as we kick off our 2022 STRONGER BUSINESS SERIES\, and make a valuable investment in the success of your business!\n\n \n"Keeping Great Employees"\n\n \n\nNothing impacts the bottom line of a business like a great employee.  As hard as it has become to FIND great employees\, it's also critical to think about what it takes to KEEP one\, once you've found him or her. \n\n \n\nOnboarding a new employee is a journey. Unfortunately\, most onboarding processes take an employee from excitement to disillusionment because they don't fulfill the promises made during recruitment. Effective onboarding programs that clarify employees' roles\, build confidence in capabilities and develop relationships that lead to higher job satisfaction\, performance\, organizational commitment\, higher performance\, and lower turnover. \n\n \n\nIn this 2.5-hour workshop\, you'll get practical tips and best practices that will impact a new employee's first 90 days and the first year. \n\n\n\nAdmissions are limited to 100 participants and are non-refundable. However\, you may change the name of the person attending on a paid registration with no penalty.\n\n\n\n\n\nAbout the Presenter: Jonathan Davey of Intellego\n\n\n\nJonathan Davey\, CEO of Intellego\, is passionate about creating inclusive workplaces that allow people to bring their full authentic selves to work and do what they do best every day. His background in leadership development\, conflict dynamics\, and human resource management has helped organizations increase manager effectiveness and reduce turnover through coaching and facilitated workshops. Jonathan is also passionate about cultivating effective collaborations and eliminating inefficiencies and redundancies in the workplace. When he's not disrupting the workplace for the better\, Jonathan enjoys attending symphonies\, community events\, and trying new restaurants.\n\n\n\nThank you to our partners:\n\nArapahoe Community College\n\nCastle Pines Chamber of Commerce
X-ALT-DESC;FMTTYPE=text/html:<span style="font-size:16px\;">The <strong>Parker Chamber of Commerce</strong> is helping bring meaningful training to help your business attract\, retain\, and motivate your employee team.&nbsp\; Please join us as we kick off our 2022 <em><strong>STRONGER BUSINESS SERIES</strong></em>\, and make a valuable investment in the success of your business!</span><br />\n&nbsp\;\n<div style="caret-color: rgb(0\, 0\, 0)\; color: rgb(0\, 0\, 0)\; font-family: HelveticaNeue-Medium\; font-size: 14px\; text-size-adjust: auto\;"><strong><span style="font-size:16px\;"><i>&ldquo\;Keeping Great Employees&rdquo\;</i></span></strong></div>\n\n<div style="caret-color: rgb(0\, 0\, 0)\; color: rgb(0\, 0\, 0)\; font-family: HelveticaNeue-Medium\; font-size: 14px\; text-size-adjust: auto\;">&nbsp\;</div>\n\n<div style="caret-color: rgb(0\, 0\, 0)\; color: rgb(0\, 0\, 0)\; font-family: HelveticaNeue-Medium\; font-size: 14px\; text-size-adjust: auto\;"><span style="font-size:16px\;"><font face="HelveticaNeue-Medium"><i>Nothing impacts the bottom line of a business like a great employee. &nbsp\;As hard as it has become to FIND great employees\, it&rsquo\;s also critical to think about what it takes to KEEP one\, once you&rsquo\;ve found him or her.&nbsp\;</i></font></span></div>\n\n<div style="caret-color: rgb(0\, 0\, 0)\; color: rgb(0\, 0\, 0)\; font-family: HelveticaNeue-Medium\; font-size: 14px\; text-size-adjust: auto\;">&nbsp\;</div>\n\n<div style="caret-color: rgb(0\, 0\, 0)\; color: rgb(0\, 0\, 0)\; font-family: HelveticaNeue-Medium\; font-size: 14px\; text-size-adjust: auto\;"><span style="font-size:16px\;"><font face="HelveticaNeue-Medium"><i>Onboarding a new employee is a journey. Unfortunately\, most onboarding processes take an employee from excitement to disillusionment because they don&#39\;t fulfill the promises made during recruitment. Effective onboarding programs that clarify employees&rsquo\; roles\, build confidence in capabilities&nbsp\;and develop relationships that lead to higher job satisfaction\, performance\,&nbsp\;organizational commitment\, higher performance\, and lower turnover.&nbsp\;</i></font></span></div>\n\n<div style="caret-color: rgb(0\, 0\, 0)\; color: rgb(0\, 0\, 0)\; font-family: HelveticaNeue-Medium\; font-size: 14px\; text-size-adjust: auto\;">&nbsp\;</div>\n\n<div style="caret-color: rgb(0\, 0\, 0)\; color: rgb(0\, 0\, 0)\; font-family: HelveticaNeue-Medium\; font-size: 14px\; text-size-adjust: auto\;"><span style="font-size:16px\;"><font face="HelveticaNeue-Medium"><i>In this 2.5-hour workshop\, you&rsquo\;ll get practical tips and best practices that will impact a new employee&rsquo\;s first 90 days and the first&nbsp\;year.&nbsp\;<br />\n<br />\n<span style="color:#800080\;">Admissions are limited to 100 participants and are non-refundable. However\, you may change the name of the person attending on a paid registration with no penalty.</span></i><br />\n<br />\n<br />\n<em><strong>About the Presenter: Jonathan Davey of Intellego</strong></em></font></span><br />\n<br />\n<span style="font-size:14px\;"><span style="caret-color: rgb(0\, 0\, 0)\; font-family: HelveticaNeue-Medium\; text-size-adjust: auto\;">Jonathan Davey\, CEO of Intellego\, is passionate about creating inclusive workplaces that allow people to bring their full authentic selves to work and do what they do best every day. His background in leadership development\, conflict dynamics\, and human resource management has helped organizations increase manager effectiveness and reduce turnover through coaching and facilitated&nbsp\;workshops. Jonathan is also passionate about cultivating effective collaborations and eliminating inefficiencies and redundancies in the workplace. When he&#39\;s not disrupting the workplace for the better\, Jonathan enjoys attending symphonies\, community events\, and trying new restaurants.<br />\n<br />\nThank you to our partners:<br />\n<span style="color:#800080\;"><strong>Arapahoe Community College<br />\nCastle Pines Chamber of Commerce</strong></span></span></span></div>\n
LOCATION:Parker Library Event Room A\, 2nd Floor 20105 Mainstreet\, Parker\, CO 80138
UID:e.2085.5382
SEQUENCE:3
DTSTAMP:20260420T133135Z
URL:http://parkerchamber.sampleorg.com/events/details/keeping-great-employees-stronger-business-series-seminar-5382
END:VEVENT

END:VCALENDAR
