BEGIN:VCALENDAR
VERSION:2.0
PRODID:-//ChamberMaster//Event Calendar 2.0//EN
METHOD:PUBLISH
X-PUBLISHED-TTL:P3D
REFRESH-INTERVAL:P3D
CALSCALE:GREGORIAN
BEGIN:VEVENT
DTSTART:20230509T143000Z
DTEND:20230509T160000Z
X-MICROSOFT-CDO-ALLDAYEVENT:FALSE
SUMMARY:Leads Group Informational Session
DESCRIPTION:The Parker Chamber of Commerce currently has six active LEADS GROUPS\, each meeting twice a month. \n\n\n\nA leads group is a regular meeting group of professionals who work to promote each other's businesses\, assist with sales lead generation\, and advise each other on other areas of success. Your leads group is an advisory board of other successful professionals invested in your success!  Everyone actively helps each other!\n\n\n\nLeads groups limit their membership to one person in each industry   one financial advisor\, one optometrist\, one HVAC contractor\, etc.  An ideal size for a leads group is between 12-25.  You must be an active member of the Parker Chamber in good standing to be in one of our leads groups.\n\n\n\nLeads groups set their own dues\, which range from $30-200 a year. Each group does things a little differently   some meet over lunch\, some read shared articles\, some do an annual service event\, some have happy hours.\n\n\n\nWhen you join a leads group\, you are expected to show up at most of their meetings    it's a standing commitment.  It's important to find a group that meets at a time that will be consistently convenient for you.\n\n\n\nAt this informational session\, you will learn about our six groups. You can meet some of the members in a no-pressure\, no-obligation setting.\n\n\n\nIs joining a leads group a good strategy for growing your business? Come find out.
X-ALT-DESC;FMTTYPE=text/html:The Parker Chamber of Commerce currently has six active <strong>LEADS GROUPS</strong>\, each meeting twice a month.&nbsp\;<br />\n<br />\nA leads group is a regular meeting group of professionals who work to promote each other&#39\;s businesses\, assist with sales lead generation\, and advise each other on other areas of success. Your leads group is an advisory board of other successful professionals invested in your success!&nbsp\; Everyone actively helps each other!<br />\n<br />\nLeads groups limit their membership to one person in each industry &ndash\; one financial advisor\, one optometrist\, one HVAC contractor\, etc.&nbsp\; An ideal size for a leads group is between 12-25.&nbsp\; You must be an active member of the Parker Chamber in good standing to be in one of our leads groups.<br />\n<br />\nLeads groups set their own dues\, which range from $30-200 a year. Each group does things a little differently &ndash\; some meet over lunch\, some read shared articles\, some do an annual service event\, some have happy hours.<br />\n<br />\nWhen you join a leads group\, you are expected to show up at most of their meetings&nbsp\; &ndash\; it&#39\;s a standing commitment.&nbsp\; It&#39\;s important to find a group that meets at a time that will be consistently convenient for you.<br />\n<br />\nAt this informational session\, you will learn about our six groups. You can meet some of the members <strong>in a no-pressure\, no-obligation setting</strong>.<br />\n<br />\nIs joining a leads group a good strategy for growing your business? Come find out.
LOCATION:Parker Library 2nd Floor\, Event Room B 20105 E. Mainstreet\, Downtown Parker
UID:e.2085.5911
SEQUENCE:3
DTSTAMP:20260419T124945Z
URL:http://parkerchamber.sampleorg.com/events/details/leads-group-informational-session-5911
END:VEVENT

END:VCALENDAR
