BEGIN:VCALENDAR
VERSION:2.0
PRODID:-//ChamberMaster//Event Calendar 2.0//EN
METHOD:PUBLISH
X-PUBLISHED-TTL:P3D
REFRESH-INTERVAL:P3D
CALSCALE:GREGORIAN
BEGIN:VEVENT
DTSTART:20210921T151500Z
DTEND:20210921T161500Z
X-MICROSOFT-CDO-ALLDAYEVENT:FALSE
SUMMARY:Library Leads 2
DESCRIPTION:Business Partners Networking
X-ALT-DESC;FMTTYPE=text/html:Business Partners Networking
LOCATION:Douglas County Library - Parker Branch 20105 E. Mainstreet Parker\, CO 80138 Please check Info Desk or Info Screen for Room Location
UID:e.2085.3944
SEQUENCE:3
DTSTAMP:20260420T193351Z
URL:http://parkerchamber.sampleorg.com/events/details/library-leads-2-09-21-2021-3944
END:VEVENT

END:VCALENDAR
