BEGIN:VCALENDAR
VERSION:2.0
PRODID:-//ChamberMaster//Event Calendar 2.0//EN
METHOD:PUBLISH
X-PUBLISHED-TTL:P3D
REFRESH-INTERVAL:P3D
CALSCALE:GREGORIAN
BEGIN:VEVENT
DTSTART:20211019T151500Z
DTEND:20211019T163000Z
X-MICROSOFT-CDO-ALLDAYEVENT:FALSE
SUMMARY:Library Leads 2
DESCRIPTION:Networking groups promote other member businesses primarily by increasing business opportunities through the building of valuable relationships.  The Parker Chamber of Commerce offers five networking groups exclusive to its members.  Each group is limited to one occupation per group.
X-ALT-DESC;FMTTYPE=text/html:<span style="font-size:14px\;">Networking groups promote other member businesses primarily by increasing business opportunities through the building of valuable relationships.&nbsp\; The Parker Chamber of Commerce offers five networking groups exclusive to its members.&nbsp\;&nbsp\;Each group is limited to one occupation per group.</span>
LOCATION:The October 19\, 2021\, meeting of the Library Leads 2 group will be held at SpringHill Suites\, 9355 Silverado Dr\, Parker\, CO 80134
UID:e.2085.3945
SEQUENCE:3
DTSTAMP:20260420T175542Z
URL:http://parkerchamber.sampleorg.com/events/details/library-leads-2-10-19-2021-3945
END:VEVENT

END:VCALENDAR
