BEGIN:VCALENDAR
VERSION:2.0
PRODID:-//ChamberMaster//Event Calendar 2.0//EN
METHOD:PUBLISH
X-PUBLISHED-TTL:P3D
REFRESH-INTERVAL:P3D
CALSCALE:GREGORIAN
BEGIN:VEVENT
DTSTART:20221115T160000Z
DTEND:20221115T170000Z
X-MICROSOFT-CDO-ALLDAYEVENT:FALSE
SUMMARY:Library Leads Group
DESCRIPTION:Networking groups promote other member businesses primarily by increasing business opportunities through the building of valuable relationships.  The Parker Chamber of Commerce offers five networking groups exclusive to its members.  Each group is limited to one occupation per group.
X-ALT-DESC;FMTTYPE=text/html:Networking groups promote other member businesses primarily by increasing business opportunities through the building of valuable relationships.&nbsp\; The Parker Chamber of Commerce offers five networking groups exclusive to its members.&nbsp\;&nbsp\;Each group is limited to one occupation per group.
LOCATION:The Closet Factory 8480 Upland Drive\, Suite 200 Englewood\, CO 80112
UID:e.2085.3958
SEQUENCE:3
DTSTAMP:20260419T221047Z
URL:http://parkerchamber.sampleorg.com/events/details/library-leads-2-11-15-2022-3958
END:VEVENT

END:VCALENDAR
