BEGIN:VCALENDAR
VERSION:2.0
PRODID:-//ChamberMaster//Event Calendar 2.0//EN
METHOD:PUBLISH
X-PUBLISHED-TTL:P3D
REFRESH-INTERVAL:P3D
CALSCALE:GREGORIAN
BEGIN:VEVENT
DTSTART:20211116T161500Z
DTEND:20211116T173000Z
X-MICROSOFT-CDO-ALLDAYEVENT:FALSE
SUMMARY:Library Leads 2
DESCRIPTION:Networking groups promote other member businesses primarily by increasing business opportunities through the building of valuable relationships.  The Parker Chamber of Commerce offers five networking groups exclusive to its members.  Each group is limited to one occupation per group.
X-ALT-DESC;FMTTYPE=text/html:Networking groups promote other member businesses primarily by increasing business opportunities through the building of valuable relationships.&nbsp\; The Parker Chamber of Commerce offers five networking groups exclusive to its members.&nbsp\;&nbsp\;Each group is limited to one occupation per group.
LOCATION:Douglas County Library - Parker Branch 20105 E. Mainstreet Parker\, CO 80138 Please check Info Desk or Info Screen for Room Location
UID:e.2085.3946
SEQUENCE:3
DTSTAMP:20260420T163029Z
URL:http://parkerchamber.sampleorg.com/events/details/library-leads-2-11-16-2021-3946
END:VEVENT

END:VCALENDAR
