BEGIN:VCALENDAR
VERSION:2.0
PRODID:-//ChamberMaster//Event Calendar 2.0//EN
METHOD:PUBLISH
X-PUBLISHED-TTL:P3D
REFRESH-INTERVAL:P3D
CALSCALE:GREGORIAN
BEGIN:VEVENT
DTSTART:20220118T160000Z
DTEND:20220118T170000Z
X-MICROSOFT-CDO-ALLDAYEVENT:FALSE
SUMMARY:Library Leads Group
DESCRIPTION:Business Partners Networking
X-ALT-DESC;FMTTYPE=text/html:Business Partners Networking
LOCATION:Douglas County Library - Parker Branch 20105 E. Mainstreet Parker\, CO 80138 Please check Info Desk or Info Screen for Room Location
UID:e.2085.3948
SEQUENCE:3
DTSTAMP:20260420T144129Z
URL:http://parkerchamber.sampleorg.com/events/details/library-leads-group-01-18-2022-3948
END:VEVENT

END:VCALENDAR
