BEGIN:VCALENDAR
VERSION:2.0
PRODID:-//ChamberMaster//Event Calendar 2.0//EN
METHOD:PUBLISH
X-PUBLISHED-TTL:P3D
REFRESH-INTERVAL:P3D
CALSCALE:GREGORIAN
BEGIN:VEVENT
DTSTART:20211207T161500Z
DTEND:20211207T173000Z
X-MICROSOFT-CDO-ALLDAYEVENT:FALSE
SUMMARY:Library Leads (L2)
DESCRIPTION:Networking groups promote other member businesses primarily by increasing business opportunities through the building of valuable relationships.  The Parker Chamber of Commerce offers five networking groups exclusive to its members.  Each group is limited to one occupation per group.
X-ALT-DESC;FMTTYPE=text/html:Networking groups promote other member businesses primarily by increasing business opportunities through the building of valuable relationships.&nbsp\; The Parker Chamber of Commerce offers five networking groups exclusive to its members.&nbsp\;&nbsp\;Each group is limited to one occupation per group.
LOCATION:Closet Factory 8480 Upland Dr. Ste. 200 Centennial\, CO 80112
UID:e.2085.4077
SEQUENCE:3
DTSTAMP:20260420T145154Z
URL:http://parkerchamber.sampleorg.com/events/details/library-leads-l2-12-07-2021-4077
END:VEVENT

END:VCALENDAR
