BEGIN:VCALENDAR
VERSION:2.0
PRODID:-//ChamberMaster//Event Calendar 2.0//EN
METHOD:PUBLISH
X-PUBLISHED-TTL:P3D
REFRESH-INTERVAL:P3D
CALSCALE:GREGORIAN
BEGIN:VEVENT
DTSTART:20211019T000000Z
DTEND:20211019T013000Z
X-MICROSOFT-CDO-ALLDAYEVENT:FALSE
SUMMARY:Little Free Art Gallery Opening (PACE Center)
DESCRIPTION:Little Free Art Gallery Opening\n\nIn celebration of the 10th Anniversary of the PACE Center\, Parker Arts' own talented stage technician Roderick Borden has built a Little Free Art Gallery that will reside outside the front doors of the PACE Center for the community to enjoy.\n\nJoin us for the free unveiling of this interactive art installation. Art will be displayed in the Little Free Art Gallery. The public will be able to take out the pieces of art they want and then fill the gallery with their own works of art. After the unveiling\, attendees will be invited inside the PACE Center for some snacks and the opportunity to create their own masterpieces that will be showcased in the Little Free Art Gallery.
X-ALT-DESC;FMTTYPE=text/html:<h2 class="mb-1" style="box-sizing: border-box\; margin-top: 0px\; margin-right: 0px\; margin-left: 0px\; line-height: 1.5\; font-size: 1.5rem\; color: rgb(0\, 0\, 0)\; margin-bottom: 30px !important\; font-family: Montserrat\, sans-serif !important\; font-weight: 600 !important\;">Little Free Art Gallery Opening</h2>\n\n<p style="box-sizing: border-box\; margin: 0px 0px 1rem\; font-size: 1.125rem\; line-height: 1.5\; color: rgb(0\, 0\, 0)\; font-family: freight-display-pro\, serif\;">In celebration of the 10<span style="box-sizing: border-box\; font-size: 13.5px\; line-height: 0\; position: relative\; vertical-align: baseline\; top: -0.5em\;">th</span>&nbsp\;Anniversary of the PACE Center\, Parker Arts&rsquo\; own talented stage technician Roderick Borden has built a Little Free Art Gallery that will reside outside the front doors of the PACE Center for the community to enjoy.</p>\n\n<p style="box-sizing: border-box\; margin: 0px 0px 1rem\; font-size: 1.125rem\; line-height: 1.5\; color: rgb(0\, 0\, 0)\; font-family: freight-display-pro\, serif\;">Join us for the&nbsp\;<em style="box-sizing: border-box\;">free</em>&nbsp\;unveiling of this interactive art installation. Art will be displayed in the Little Free Art Gallery. The public will be able to take out the pieces of art they want and then fill the gallery with their&nbsp\;<em style="box-sizing: border-box\;">own</em>&nbsp\;works of art. After the unveiling\, attendees will be invited inside the PACE Center for some snacks and the opportunity to create their own masterpieces that will be showcased in the Little Free Art Gallery.</p>\n
LOCATION:PACE CENTER 20000 Pikes Peak Ave.\, Parker
UID:e.2085.5298
SEQUENCE:3
DTSTAMP:20260420T193231Z
URL:http://parkerchamber.sampleorg.com/events/details/little-free-art-gallery-opening-pace-center-5298
END:VEVENT

END:VCALENDAR
