BEGIN:VCALENDAR
VERSION:2.0
PRODID:-//ChamberMaster//Event Calendar 2.0//EN
METHOD:PUBLISH
X-PUBLISHED-TTL:P3D
REFRESH-INTERVAL:P3D
CALSCALE:GREGORIAN
BEGIN:VEVENT
DTSTART:20220222T183000Z
DTEND:20220222T200000Z
X-MICROSOFT-CDO-ALLDAYEVENT:FALSE
SUMMARY:Lunch Bunch - 20-Mile Tap House
DESCRIPTION:Lunch Bunch is a casual networking event hosted by the Parker Chamber of Commerce at various partner locations around town. Free to attend. Everyone buys their own meal.\n\n\n\nPlease bring business cards. Everyone has an opportunity to introduce themselves and their businesses.\n\n\n\nPlease RSVP!
X-ALT-DESC;FMTTYPE=text/html:<span style="font-size:16px\;">Lunch Bunch is a casual networking event hosted by the Parker Chamber of Commerce at various partner locations around town. Free to attend. Everyone buys their own meal.<br />\n<br />\nPlease bring business cards. Everyone has an opportunity to introduce themselves and their businesses.<br />\n<br />\nPlease RSVP!</span>
LOCATION:12543 N Hwy 83 Parker\, CO 80134
UID:e.2085.5391
SEQUENCE:3
DTSTAMP:20260420T133136Z
URL:http://parkerchamber.sampleorg.com/events/details/lunch-bunch-20-mile-tap-house-5391
END:VEVENT

END:VCALENDAR
