BEGIN:VCALENDAR
VERSION:2.0
PRODID:-//ChamberMaster//Event Calendar 2.0//EN
METHOD:PUBLISH
X-PUBLISHED-TTL:P3D
REFRESH-INTERVAL:P3D
CALSCALE:GREGORIAN
BEGIN:VEVENT
DTSTART:20230124T183000Z
DTEND:20230124T200000Z
X-MICROSOFT-CDO-ALLDAYEVENT:FALSE
SUMMARY:Lunch Bunch - Black + Haus Tavern
DESCRIPTION:Lunch Bunch is a casual networking event for members of the Parker Chamber of Commerce and their guests.  We meet at various dining establishments around town. Free to attend. Everyone buys their own meal.\n\n\n\nGuests are welcome\, but after attending two Lunch Bunch events\, we ask you to join the Chamber.\n\n\n\nPlease bring business cards. Everyone has an opportunity to introduce themselves and their businesses.\n\n\n\nPlease RSVP!
X-ALT-DESC;FMTTYPE=text/html:<span style="font-size:16px\;">Lunch Bunch is a casual networking event for members of the Parker Chamber of Commerce and their guests.&nbsp\; We meet at various dining establishments around town. Free to attend. Everyone buys their own meal.<br />\n<br />\nGuests are welcome\, but after attending two Lunch Bunch events\, we ask you to join the Chamber.<br />\n<br />\nPlease bring business cards. Everyone has an opportunity to introduce themselves and their businesses.<br />\n<br />\nPlease RSVP!</span>
LOCATION:Black Haus Tavern 19501 E. Mainstreet\, Downtown\, Parker\, CO
UID:e.2085.5858
SEQUENCE:3
DTSTAMP:20260419T191000Z
URL:http://parkerchamber.sampleorg.com/events/details/lunch-bunch-black-haus-tavern-5858
END:VEVENT

END:VCALENDAR
