BEGIN:VCALENDAR
VERSION:2.0
PRODID:-//ChamberMaster//Event Calendar 2.0//EN
METHOD:PUBLISH
X-PUBLISHED-TTL:P3D
REFRESH-INTERVAL:P3D
CALSCALE:GREGORIAN
BEGIN:VEVENT
DTSTART:20220510T173000Z
DTEND:20220510T190000Z
X-MICROSOFT-CDO-ALLDAYEVENT:FALSE
SUMMARY:Lunch Bunch - Cherry Village Asian Grill
DESCRIPTION:Lunch Bunch is a casual networking event hosted by the Parker Chamber of Commerce at various partner locations around town. Free to attend. Everyone buys their own meal.\n\n\n\nPlease bring business cards. Everyone has an opportunity to introduce themselves and their businesses.\n\n\n\nPlease RSVP!
X-ALT-DESC;FMTTYPE=text/html:<span style="font-size:16px\;">Lunch Bunch is a casual networking event hosted by the Parker Chamber of Commerce at various partner locations around town. Free to attend. Everyone buys their own meal.<br />\n<br />\nPlease bring business cards. Everyone has an opportunity to introduce themselves and their businesses.<br />\n<br />\nPlease RSVP!</span>
LOCATION:Cherry Village Asian Grill 17001 Lincoln Ave Parker\, CO 80134
UID:e.2085.5396
SEQUENCE:3
DTSTAMP:20260420T073408Z
URL:http://parkerchamber.sampleorg.com/events/details/lunch-bunch-cherry-village-asian-grill-05-10-2022-5396
END:VEVENT

END:VCALENDAR
