BEGIN:VCALENDAR
VERSION:2.0
PRODID:-//ChamberMaster//Event Calendar 2.0//EN
METHOD:PUBLISH
X-PUBLISHED-TTL:P3D
REFRESH-INTERVAL:P3D
CALSCALE:GREGORIAN
BEGIN:VEVENT
DTSTART:20230110T183000Z
DTEND:20230110T200000Z
X-MICROSOFT-CDO-ALLDAYEVENT:FALSE
SUMMARY:Lunch Bunch - Freddy's Frozen Custard & Steakburgers
DESCRIPTION:Lunch Bunch is a casual networking event hosted by the Parker Chamber of Commerce at various partner locations around town. Free to attend. Everyone buys their own meal.\n\n\n\nPlease bring business cards. Everyone has an opportunity to introduce themselves and their businesses.\n\n\n\nPlease RSVP!
X-ALT-DESC;FMTTYPE=text/html:<span style="font-size:16px\;">Lunch Bunch is a casual networking event hosted by the Parker Chamber of Commerce at various partner locations around town. Free to attend. Everyone buys their own meal.<br />\n<br />\nPlease bring business cards. Everyone has an opportunity to introduce themselves and their businesses.<br />\n<br />\nPlease RSVP!</span>
LOCATION:Freddy's Frozen Custard & Steakburgers 11140 S Twenty Mile Rd.\, Parker\, CO
UID:e.2085.5532
SEQUENCE:3
DTSTAMP:20260419T204009Z
URL:http://parkerchamber.sampleorg.com/events/details/lunch-bunch-freddy-s-frozen-custard-steakburgers-5532
END:VEVENT

END:VCALENDAR
