BEGIN:VCALENDAR
VERSION:2.0
PRODID:-//ChamberMaster//Event Calendar 2.0//EN
METHOD:PUBLISH
X-PUBLISHED-TTL:P3D
REFRESH-INTERVAL:P3D
CALSCALE:GREGORIAN
BEGIN:VEVENT
DTSTART:20220712T173000Z
DTEND:20220712T190000Z
X-MICROSOFT-CDO-ALLDAYEVENT:FALSE
SUMMARY:Lunch Bunch - Jet's Pizza & Dough Dreamery
DESCRIPTION:Lunch Bunch is a casual networking event hosted by the Parker Chamber of Commerce at various partner locations around town. Free to attend. Everyone buys their own meal.\n\n\n\nPlease bring business cards. Everyone has an opportunity to introduce themselves and their businesses.\n\n\n\nPlease RSVP!
X-ALT-DESC;FMTTYPE=text/html:<span style="font-size:16px\;">Lunch Bunch is a casual networking event hosted by the Parker Chamber of Commerce at various partner locations around town. Free to attend. Everyone buys their own meal.<br />\n<br />\nPlease bring business cards. Everyone has an opportunity to introduce themselves and their businesses.<br />\n<br />\nPlease RSVP!</span>
LOCATION:On the Plaza at Parker Station Directly behind Dough Dreamery 19751 E. Mainstreet\, Parker\, CO 80138
UID:e.2085.5521
SEQUENCE:3
DTSTAMP:20260420T042937Z
URL:http://parkerchamber.sampleorg.com/events/details/lunch-bunch-jet-s-pizza-dough-dreamery-5521
END:VEVENT

END:VCALENDAR
