BEGIN:VCALENDAR
VERSION:2.0
PRODID:-//ChamberMaster//Event Calendar 2.0//EN
METHOD:PUBLISH
X-PUBLISHED-TTL:P3D
REFRESH-INTERVAL:P3D
CALSCALE:GREGORIAN
BEGIN:VEVENT
DTSTART:20230523T173000Z
DTEND:20230523T190000Z
X-MICROSOFT-CDO-ALLDAYEVENT:FALSE
SUMMARY:Lunch Bunch - Rory's Diner
DESCRIPTION:Lunch Bunch is a casual networking event for members of the Parker Chamber of Commerce and their guests.  We meet at various dining establishments around town. Free to attend. Everyone buys their own meal.\n\n\n\nGuests are welcome\, but after attending two Lunch Bunch events\, we ask you to join the Chamber.\n\n\n\nPlease bring business cards. Everyone has an opportunity to introduce themselves and their businesses.\n\n\n\nPlease RSVP!
X-ALT-DESC;FMTTYPE=text/html:<span style="font-size:16px\;">Lunch Bunch is a casual networking event for members of the Parker Chamber of Commerce and their guests.&nbsp\; We meet at various dining establishments around town. Free to attend. Everyone buys their own meal.</span><br style="font-size: 16px\;" />\n<br style="font-size: 16px\;" />\n<span style="font-size: 16px\;">Guests are welcome\, but after attending two Lunch Bunch events\, we ask you to join the Chamber.</span><br style="font-size: 16px\;" />\n<br style="font-size: 16px\;" />\n<span style="font-size: 16px\;">Please bring business cards. Everyone has an opportunity to introduce themselves and their businesses.</span><br style="font-size: 16px\;" />\n<br style="font-size: 16px\;" />\n<span style="font-size:16px\;">Please RSVP!</span>
LOCATION:Rory's Diner 11020 South Pikes Peak Drive\, Parker\, CO 80138
UID:e.2085.5864
SEQUENCE:3
DTSTAMP:20260419T125004Z
URL:http://parkerchamber.sampleorg.com/events/details/lunch-bunch-rory-s-diner-5864
END:VEVENT

END:VCALENDAR
