BEGIN:VCALENDAR
VERSION:2.0
PRODID:-//ChamberMaster//Event Calendar 2.0//EN
METHOD:PUBLISH
X-PUBLISHED-TTL:P3D
REFRESH-INTERVAL:P3D
CALSCALE:GREGORIAN
BEGIN:VEVENT
DTSTART:20220614T173000Z
DTEND:20220614T190000Z
X-MICROSOFT-CDO-ALLDAYEVENT:FALSE
SUMMARY:Lunch Bunch - Vy Sushi & Pho LOCATION CHANGE
DESCRIPTION:THIS IS A CHANGE OF LOCATION!\n\n\n\nLunch Bunch is a casual networking event hosted by the Parker Chamber of Commerce at various partner locations around town. Free to attend. Everyone buys their own meal.\n\n\n\nPlease bring business cards. Everyone has an opportunity to introduce themselves and their businesses.\n\n\n\nPlease RSVP!
X-ALT-DESC;FMTTYPE=text/html:<span style="font-size:16px\;"><strong><span style="font-size:24px\;"><span style="color:#FF0000\;">THIS IS A CHANGE OF LOCATION!</span></span></strong><br />\n<br />\nLunch Bunch is a casual networking event hosted by the Parker Chamber of Commerce at various partner locations around town. Free to attend. Everyone buys their own meal.<br />\n<br />\nPlease bring business cards. Everyone has an opportunity to introduce themselves and their businesses.<br />\n<br />\nPlease RSVP!</span>
LOCATION:9964 S Twenty Mile Rd. Parker\, CO 80134
UID:e.2085.5398
SEQUENCE:3
DTSTAMP:20260420T061717Z
URL:http://parkerchamber.sampleorg.com/events/details/lunch-bunch-vy-sushi-pho-location-change-5398
END:VEVENT

END:VCALENDAR
