BEGIN:VCALENDAR
VERSION:2.0
PRODID:-//ChamberMaster//Event Calendar 2.0//EN
METHOD:PUBLISH
X-PUBLISHED-TTL:P3D
REFRESH-INTERVAL:P3D
CALSCALE:GREGORIAN
BEGIN:VEVENT
DTSTART:20210908T173000Z
DTEND:20210908T184500Z
X-MICROSOFT-CDO-ALLDAYEVENT:FALSE
SUMMARY:Lunchtime Leads Group
DESCRIPTION:The Parker Area Chamber of Commerce offers multiple networking groups to help its members make the valuable connections that lead to stronger businesses.  Each group is limited to one member per product or service (example: just one accountant\, just one realtor\, etc.).\n\n\n\nThe Lunchtime Leads Group meets on the 2nd and 4th Wednesdays of each month. The meeting on the 2nd Wednesday is always at the Colorado Taproom at 19539 Hess Road\, Suite 101\, in Parker.  The meeting on the 4th Wednesday rotates among member businesses.\n\n\n\nIf you would like to attend\, please email group coordinator Sam Wray (she/her) of State Farm to arrange for an invitation to visit.  Sam will also let you know if there is an opening for your industry/professional service in the group. All members must be members of the Parker Chamber of Commerce\, or must join upon acceptance into the leads group.\n\n\n\nPlease consider visiting or joining the group\, and enjoy the benefits of a professional group committed to helping you succeed!
X-ALT-DESC;FMTTYPE=text/html:<span style="font-size: 14px\;">The&nbsp\;<strong>Parker Area Chamber of Commerce</strong>&nbsp\;offers multiple networking groups to help its members make the valuable connections that lead to stronger businesses.&nbsp\;&nbsp\;Each group is limited to one member per product or service (example: just one accountant\, just one realtor\, etc.).</span><br style="font-size: 14px\;" />\n<br style="font-size: 14px\;" />\n<span style="font-size: 14px\;">The Lunchtime Leads Group meets on the 2nd and 4th Wednesdays of each month. The meeting on the 2nd Wednesday is always at the Colorado Taproom at 19539 Hess Road\, Suite 101\, in Parker.&nbsp\; The meeting on the 4th Wednesday rotates among member businesses.</span><br style="font-size: 14px\;" />\n<br style="font-size: 14px\;" />\n<span style="font-size: 14px\;">If you would like to attend\,&nbsp\;</span><strong style="font-size: 14px\;"><a href="mailto:sam.mcdadewray.vabkfe@statefarm.com?subject=Question%20About%20Lunchtime%20Leads%20Group">please email group coordinator Sam Wray</a></strong><span style="font-size: 14px\;">&nbsp\;(she/her) of State Farm to arrange for an invitation to visit.&nbsp\; Sam will also let you know if there is an opening for your industry/professional service in the group. All members must be members of the Parker Chamber of Commerce\, or must join upon acceptance into the leads group.</span><br style="font-size: 14px\;" />\n<br style="font-size: 14px\;" />\n<span style="font-size: 14px\;">Please consider visiting or joining the group\, and enjoy the benefits of a professional group committed to helping you succeed!</span>
LOCATION:Colorado Taproom 19549 Hess Rd. #101 Parker\, CO
UID:e.2085.4746
SEQUENCE:3
DTSTAMP:20260420T193521Z
URL:http://parkerchamber.sampleorg.com/events/details/lunchtime-leads-group-09-08-2021-4746
END:VEVENT

END:VCALENDAR
