BEGIN:VCALENDAR
VERSION:2.0
PRODID:-//ChamberMaster//Event Calendar 2.0//EN
METHOD:PUBLISH
X-PUBLISHED-TTL:P3D
REFRESH-INTERVAL:P3D
CALSCALE:GREGORIAN
BEGIN:VEVENT
DTSTART:20220803T150000Z
DTEND:20220803T160000Z
X-MICROSOFT-CDO-ALLDAYEVENT:FALSE
SUMMARY:Maximize Your Membership: 101
DESCRIPTION:Please join us for an informational briefing on how to utilize the Parker Chamber of Commerce while learning about the programs and benefits available exclusively to members.  Space is limited so please register!
X-ALT-DESC;FMTTYPE=text/html:Please join us for an informational briefing on how to utilize the Parker Chamber of Commerce while learning about the programs and benefits available exclusively to members.&nbsp\; Space is limited so please register!
LOCATION:Parker Library 2nd Floor Conference Room 20105 E. Mainstreet Parker\, CO 80138
UID:e.2085.5807
SEQUENCE:3
DTSTAMP:20260420T024555Z
URL:http://parkerchamber.sampleorg.com/events/details/maximize-your-membership-101-5807
END:VEVENT

END:VCALENDAR
