BEGIN:VCALENDAR
VERSION:2.0
PRODID:-//ChamberMaster//Event Calendar 2.0//EN
METHOD:PUBLISH
X-PUBLISHED-TTL:P3D
REFRESH-INTERVAL:P3D
CALSCALE:GREGORIAN
BEGIN:VEVENT
DTSTART:20230110T160000Z
DTEND:20230110T170000Z
X-MICROSOFT-CDO-ALLDAYEVENT:FALSE
SUMMARY:MAXIMIZE YOUR MEMBERSHIP 2023
DESCRIPTION:Please join us for an informational briefing on how to utilize the Parker Chamber of Commerce while learning about the programs and benefits available exclusively to members.  Space is limited so please register!
X-ALT-DESC;FMTTYPE=text/html:Please join us for an informational briefing on how to utilize the Parker Chamber of Commerce while learning about the programs and benefits available exclusively to members.&nbsp\; Space is limited so please register!
LOCATION:Parker Library 2nd Floor 20105 E. Mainstreet Parker\, CO 80138
UID:e.2085.5826
SEQUENCE:3
DTSTAMP:20260419T201857Z
URL:http://parkerchamber.sampleorg.com/events/details/maximize-your-membership-2023-5826
END:VEVENT

END:VCALENDAR
